BEGIN:VCALENDAR
VERSION:2.0
PRODID:-//ChamberMaster//Event Calendar 2.0//EN
METHOD:PUBLISH
X-PUBLISHED-TTL:P3D
REFRESH-INTERVAL:P3D
CALSCALE:GREGORIAN
BEGIN:VEVENT
DTSTART:20100406T160000Z
DTEND:20100406T160000Z
X-MICROSOFT-CDO-ALLDAYEVENT:FALSE
SUMMARY:Associate Committee Meeting- NO MEETING
DESCRIPTION:No meeting due to the booth set-up of the Atlantic Builders Convention
X-ALT-DESC;FMTTYPE=text/html:<p>&nbsp\;No meeting due to the booth&nbsp\;set-up of the Atlantic Builders Convention</p>
LOCATION:114 Haddontowne Court Cherry Hill\, NJ 08034
UID:e.9292.191
SEQUENCE:3
DTSTAMP:20260421T175956Z
URL:https://members.blsj.com/events/details/associate-committee-meeting-no-meeting-04-06-2010-191
END:VEVENT

END:VCALENDAR
