BEGIN:VCALENDAR
VERSION:2.0
PRODID:-//ChamberMaster//Event Calendar 2.0//EN
METHOD:PUBLISH
X-PUBLISHED-TTL:P3D
REFRESH-INTERVAL:P3D
CALSCALE:GREGORIAN
BEGIN:VEVENT
DTSTART:20060606T220000Z
DTEND:20060606T160000Z
X-MICROSOFT-CDO-ALLDAYEVENT:FALSE
SUMMARY:Associate Committee Meeting - New Time 10:30 am
DESCRIPTION:SUBJECT: ASSOCIATES COMMITTEE MEETING  PLACE: League Office DATE: June 6\, 2006  TIME: 10:30 AM            AGENDA  1.   Member Communication Update (S. Spadaro) 2.   Certified Graduate Associate Program (M. Kurpiel) 3.   Associate BPAC Fundraiser (N. Hantman) a.   BPAC Auction Final Numbers b.   NAHB Build PAC Discussion (M. Kurpiel) 4.   Changing of the Guard (M. Kurpiel) 5.   Poker Night (S. Olin) /Final Numbers 6.   Spring Golf Outing (A. Brown) / Final Numbers 7.   Summer Golf Outing (S. Olin) Update 8.   Fall Outing Committee Members and Report (J. Michaelis) 9.   Compass Committee (A. Brown) a.   New Member Profile b.   Associate Spotlight 10.   NJBA Associates (N. Hantman) 11.   NAHB Associate Report/Spring Boards May 10-13 (M. Kurpiel~S. Olin) 12.   Cherry Hill Hilton/SOLD? (J. Lopresti ~ K. Fisher) 13.   Fundraising Committee Update/Call for Volunteers (J. Marchese) 14.           New Business:                 a. NJBA's Associate Gala in September 2006
X-ALT-DESC;FMTTYPE=text/html:SUBJECT: ASSOCIATES COMMITTEE MEETING  PLACE: League Office DATE: June 6\, 2006  TIME: 10:30 AM            AGENDA  1.   Member Communication Update (S. Spadaro) 2.   Certified Graduate Associate Program (M. Kurpiel) 3.   Associate BPAC Fundraiser (N. Hantman) a.   BPAC Auction Final Numbers b.   NAHB Build PAC Discussion (M. Kurpiel) 4.   Changing of the Guard (M. Kurpiel) 5.   Poker Night (S. Olin) /Final Numbers 6.   Spring Golf Outing (A. Brown) / Final Numbers 7.   Summer Golf Outing (S. Olin) Update 8.   Fall Outing Committee Members and Report (J. Michaelis) 9.   Compass Committee (A. Brown) a.   New Member Profile b.   Associate Spotlight 10.   NJBA Associates (N. Hantman) 11.   NAHB Associate Report/Spring Boards May 10-13 (M. Kurpiel~S. Olin) 12.   Cherry Hill Hilton/SOLD? (J. Lopresti ~ K. Fisher) 13.   Fundraising Committee Update/Call for Volunteers (J. Marchese) 14.           New Business:                 a. NJBA's Associate Gala in September 2006     
LOCATION:\, NJ
UID:e.9292.114
SEQUENCE:3
DTSTAMP:20260421T194141Z
URL:https://members.blsj.com/events/details/associate-committee-meeting-new-time-10-30-am-06-06-2006-114
END:VEVENT

END:VCALENDAR
