BEGIN:VCALENDAR
VERSION:2.0
PRODID:-//ChamberMaster//Event Calendar 2.0//EN
METHOD:PUBLISH
X-PUBLISHED-TTL:P3D
REFRESH-INTERVAL:P3D
CALSCALE:GREGORIAN
BEGIN:VEVENT
DTSTART:20050606T160000Z
DTEND:20050606T160000Z
X-MICROSOFT-CDO-ALLDAYEVENT:FALSE
SUMMARY:Associate Committee Meeting - Date change due to holiday
DESCRIPTION:
X-ALT-DESC;FMTTYPE=text/html:
LOCATION:\, NJ
UID:e.9292.582
SEQUENCE:3
DTSTAMP:20260421T020714Z
URL:https://members.blsj.com/events/details/associate-committee-meeting-date-change-due-to-holiday-06-06-2005-582
END:VEVENT

END:VCALENDAR
