BEGIN:VCALENDAR
VERSION:2.0
PRODID:-//ChamberMaster//Event Calendar 2.0//EN
METHOD:PUBLISH
X-PUBLISHED-TTL:P3D
REFRESH-INTERVAL:P3D
CALSCALE:GREGORIAN
BEGIN:VEVENT
DTSTART:20061205T170000Z
DTEND:20061205T170000Z
X-MICROSOFT-CDO-ALLDAYEVENT:FALSE
SUMMARY:Associate Committee Meeting - 12/05/2006
DESCRIPTION:SCI Report (Barbara Chiusano)      Certified Graduate Associate Program (M. Spencer)      Fundraising Committee Update (J. Marchese)      Associate BPAC Fundraiser (N. Hantman)              BPAC Ad Journal (S.Olin)          BPAC Auction (A. Brown)                Compass Committee  (A. Brown)      Associate Expo Recap (J. Lopresti ~ K. Fisher)      Awards: BLSJ Associate's Appreciation Award (FYI)      BLSJ Associate of the 4th Quarter (Action Item)      Sub Committee Chair Appointments for 2007      Old Business/New Business
X-ALT-DESC;FMTTYPE=text/html:<ol style="MARGIN-TOP: 0in" type="1">     <li class="MsoNormal" style="MARGIN: 0in 0in 0pt\; mso-list: l0 level1 lfo1\; tab-stops: list .5in"><span style="FONT-SIZE: 11pt\; FONT-FAMILY: &quot\;Comic Sans MS&quot\;\; mso-bidi-font-family: Arial">SCI Report (Barbara Chiusano)<o:p></o:p></span> </li>     <li class="MsoNormal" style="MARGIN: 0in 0in 0pt\; mso-list: l0 level1 lfo1\; tab-stops: list .5in"><span style="FONT-SIZE: 11pt\; COLOR: black\; FONT-FAMILY: &quot\;Comic Sans MS&quot\;\; mso-bidi-font-family: Arial">Certified Graduate Associate Program (M. Spencer)</span><span style="FONT-SIZE: 11pt\; FONT-FAMILY: &quot\;Comic Sans MS&quot\;\; mso-bidi-font-family: Arial"><o:p></o:p></span> </li>     <li class="MsoNormal" style="MARGIN: 0in 0in 0pt\; COLOR: black\; mso-list: l0 level1 lfo1\; tab-stops: list .5in"><span style="FONT-SIZE: 11pt\; FONT-FAMILY: &quot\;Comic Sans MS&quot\;\; mso-bidi-font-family: Arial">Fundraising Committee Update (J. Marchese)<o:p></o:p></span> </li>     <li class="MsoNormal" style="MARGIN: 0in 0in 0pt\; mso-list: l0 level1 lfo1\; tab-stops: list .5in"><span style="FONT-SIZE: 11pt\; FONT-FAMILY: &quot\;Comic Sans MS&quot\;\; mso-bidi-font-family: Arial">Associate BPAC Fundraiser (N. Hantman)<o:p></o:p></span>     <ol style="MARGIN-TOP: 0in" type="a">         <li class="MsoNormal" style="MARGIN: 0in 0in 0pt\; mso-list: l0 level2 lfo1\; tab-stops: list 1.0in"><span style="FONT-SIZE: 11pt\; FONT-FAMILY: &quot\;Comic Sans MS&quot\;\; mso-bidi-font-family: Arial">BPAC Ad Journal (S.Olin)<o:p></o:p></span> </li>         <li class="MsoNormal" style="MARGIN: 0in 0in 0pt\; mso-list: l0 level2 lfo1\; tab-stops: list 1.0in"><span style="FONT-SIZE: 11pt\; FONT-FAMILY: &quot\;Comic Sans MS&quot\;\; mso-bidi-font-family: Arial">BPAC Auction (A. Brown)<o:p></o:p></span> </li>     </ol>     </li>     <li class="MsoNormal" style="MARGIN: 0in 0in 0pt\; COLOR: black\; mso-list: l0 level1 lfo1\; tab-stops: list .5in"><span style="FONT-SIZE: 11pt\; FONT-FAMILY: &quot\;Comic Sans MS&quot\;\; mso-bidi-font-family: Arial">Compass Committee <span style="mso-spacerun: yes">&nbsp\;</span>(A. Brown)<o:p></o:p></span> </li>     <li class="MsoNormal" style="MARGIN: 0in 0in 0pt\; COLOR: black\; mso-list: l0 level1 lfo1\; tab-stops: list .5in"><span style="FONT-SIZE: 11pt\; COLOR: windowtext\; FONT-FAMILY: &quot\;Comic Sans MS&quot\;\; mso-bidi-font-family: Arial">Associate Expo Recap (J. Lopresti ~ K. Fisher)</span><span style="FONT-SIZE: 11pt\; FONT-FAMILY: &quot\;Comic Sans MS&quot\;\; mso-bidi-font-family: Arial"><o:p></o:p></span> </li>     <li class="MsoNormal" style="MARGIN: 0in 0in 0pt\; COLOR: black\; mso-list: l0 level1 lfo1\; tab-stops: list .5in"><span style="FONT-SIZE: 11pt\; FONT-FAMILY: &quot\;Comic Sans MS&quot\;\; mso-bidi-font-family: Arial">Awards: BLSJ Associate&rsquo\;s Appreciation Award (FYI)<o:p></o:p></span> </li>     <li class="MsoNormal" style="MARGIN: 0in 0in 0pt\; COLOR: black\; mso-list: l0 level1 lfo1\; tab-stops: list .5in"><span style="FONT-SIZE: 11pt\; FONT-FAMILY: &quot\;Comic Sans MS&quot\;\; mso-bidi-font-family: Arial">BLSJ Associate of the 4th Quarter (Action Item)<o:p></o:p></span> </li>     <li class="MsoNormal" style="MARGIN: 0in 0in 0pt\; COLOR: black\; mso-list: l0 level1 lfo1\; tab-stops: list .5in"><span style="FONT-SIZE: 11pt\; FONT-FAMILY: &quot\;Comic Sans MS&quot\;\; mso-bidi-font-family: Arial">Sub Committee Chair Appointments for 2007<o:p></o:p></span> </li>     <li class="MsoNormal" style="MARGIN: 0in 0in 0pt\; COLOR: black\; mso-list: l0 level1 lfo1\; tab-stops: list .5in"><span style="FONT-SIZE: 11pt\; FONT-FAMILY: &quot\;Comic Sans MS&quot\;\; mso-bidi-font-family: Arial">Old Business/New Business<o:p></o:p></span> </li> </ol>
LOCATION:\, NJ
UID:e.9292.463
SEQUENCE:3
DTSTAMP:20260422T023329Z
URL:https://members.blsj.com/events/details/associate-committee-meeting-12-05-2006-12-05-2006-463
END:VEVENT

END:VCALENDAR
