BEGIN:VCALENDAR
VERSION:2.0
PRODID:-//ChamberMaster//Event Calendar 2.0//EN
METHOD:PUBLISH
X-PUBLISHED-TTL:P3D
REFRESH-INTERVAL:P3D
CALSCALE:GREGORIAN
BEGIN:VEVENT
DTSTART:20091006T160000Z
DTEND:20091006T160000Z
X-MICROSOFT-CDO-ALLDAYEVENT:FALSE
SUMMARY:Associate Committee Meeting - 10/06/2009
DESCRIPTION:SUBJECT: ASSOCIATES COMMITTEE MEETING \n PLACE: League Office\n DATE: October 6\, 2009 \n Time: 10 AM \n MEETING AGENDA 1. Welcome remarks: N. Hantman 2. Conflict of Interest Statement 3. Mission statement 4. Introduction of all in attendance 5. Guest Speaker : Michael Karmatz\, NJBA President 6. 2009 Sub Committee Chairs and events : REMINDER ALL MINUTES FROM SUB-COMMITTEE MEETINGS MUST BE SUBMITTEDTO Nicole and Marlene A. BPAC Ad Journal: \n Chair: P. DiGiambatista Co-Chair: E. McMahon\n \n B. Fall Golf Outing: wrap- up \n Chair: D. Robinson Co-Chair: J. Nowak\n \n C. Associate Expo:\n Chair: A. Goldman Co-Chair: J. Michaelis: Note Date Please Oct 14\n \n D. Cigar Night: Chair: J. Sauder : La Veranda \, November 24\,2009 7. Build the Vote Campaign \n \n 8. Build PAC /SJBPAC\n \n 9. Member Services  J. Sauder\n \n 10. NJBA Associates update-N. Hantman\n \n 11. Lead Swap\n \n 12. Old Business/New Business Next Meeting: November 3\, 2008 10 A.M. BLSJ Office
X-ALT-DESC;FMTTYPE=text/html:<p>SUBJECT: ASSOCIATES COMMITTEE MEETING <br /> PLACE: League Office<br /> DATE: October 6\, 2009 <br /> Time: 10 AM <br /> MEETING AGENDA</p> <p>1. Welcome remarks: N. Hantman</p> <p>2. Conflict of Interest Statement</p> <p>3. Mission statement</p> <p>4. Introduction of all in attendance</p> <p>5. Guest Speaker : Michael Karmatz\, NJBA President</p> <p>6. 2009 Sub Committee Chairs and events : REMINDER ALL MINUTES FROM SUB-COMMITTEE MEETINGS MUST BE SUBMITTEDTO Nicole and Marlene</p> <p>A. BPAC Ad Journal: <br /> Chair: P. DiGiambatista Co-Chair: E. McMahon<br /> <br /> B. Fall Golf Outing: wrap- up <br /> Chair: D. Robinson Co-Chair: J. Nowak<br /> <br /> C. Associate Expo:<br /> Chair: A. Goldman Co-Chair: J. Michaelis: Note Date Please Oct 14<br /> <br /> D. Cigar Night: Chair: J. Sauder : La Veranda \, November 24\,2009</p> <p>7. Build the Vote Campaign <br /> <br /> 8. Build PAC /SJBPAC<br /> <br /> 9. Member Services &ndash\;J. Sauder<br /> <br /> 10. NJBA Associates update-N. Hantman<br /> <br /> 11. Lead Swap<br /> <br /> 12. Old Business/New Business</p> <p>Next Meeting: November 3\, 2008 10 A.M. BLSJ Office <br /> &nbsp\;</p>
LOCATION:114 Haddontowne Court Cherry Hill\, NJ 08043
UID:e.9292.239
SEQUENCE:3
DTSTAMP:20260422T011149Z
URL:https://members.blsj.com/events/details/associate-committee-meeting-10-06-2009-10-06-2009-239
END:VEVENT

END:VCALENDAR
