BEGIN:VCALENDAR
VERSION:2.0
PRODID:-//ChamberMaster//Event Calendar 2.0//EN
METHOD:PUBLISH
X-PUBLISHED-TTL:P3D
REFRESH-INTERVAL:P3D
CALSCALE:GREGORIAN
BEGIN:VEVENT
DTSTART:20060912T220000Z
DTEND:20060912T160000Z
X-MICROSOFT-CDO-ALLDAYEVENT:FALSE
SUMMARY:Associate Committee Meeting - 09/12/2006
DESCRIPTION:Please note the change in the date and time! 2:30 p.m.
X-ALT-DESC;FMTTYPE=text/html:Please note the change in the date and time!&nbsp\;2:30 p.m.<br /> <p class="MsoNormal" style="MARGIN: 0in 0in 0pt\; TEXT-ALIGN: center" align="center"><font size="3"><strong style="mso-bidi-font-weight: normal"><u><span style="FONT-FAMILY: &quot\;Comic Sans MS&quot\;\; mso-bidi-font-family: Arial\; text-shadow: auto"></span></u></strong><span style="FONT-FAMILY: &quot\;Comic Sans MS&quot\;\; mso-bidi-font-family: Arial\; text-shadow: auto"><o:p></o:p></span></font></p> <p class="MsoNormal" style="MARGIN: 0in 0in 0pt"><strong style="mso-bidi-font-weight: normal"><u><span style="FONT-SIZE: 14pt\; FONT-FAMILY: Arial"><o:p><span style="TEXT-DECORATION: none"></span></o:p></span></u></strong></p> <p><span style="FONT-SIZE: 11pt\; FONT-FAMILY: &quot\;Comic Sans MS&quot\;\; mso-bidi-font-family: Arial"><o:p></o:p></span></p> <p class="MsoNormal" style="MARGIN: 0in 0in 0pt 0.25in"><span style="FONT-SIZE: 11pt\; COLOR: black\; FONT-FAMILY: &quot\;Comic Sans MS&quot\;\; mso-bidi-font-family: Arial"><o:p>&nbsp\;</o:p></span></p> <p class="MsoNormal" style="MARGIN: 0in 0in 0pt 0.25in"><strong style="mso-bidi-font-weight: normal"><span style="FONT-SIZE: 10pt\; FONT-FAMILY: &quot\;Comic Sans MS&quot\;\; mso-bidi-font-family: Arial"></span></strong><span style="FONT-SIZE: 11pt\; COLOR: black\; FONT-FAMILY: &quot\;Comic Sans MS&quot\;\; mso-bidi-font-family: Arial"><o:p></o:p></span></p> <br />
LOCATION:BLSJ Cherry Hill\, NJ 08034
UID:e.9292.83
SEQUENCE:3
DTSTAMP:20260421T223325Z
URL:https://members.blsj.com/events/details/associate-committee-meeting-09-12-2006-09-12-2006-83
END:VEVENT

END:VCALENDAR
