BEGIN:VCALENDAR
VERSION:2.0
PRODID:-//ChamberMaster//Event Calendar 2.0//EN
METHOD:PUBLISH
X-PUBLISHED-TTL:P3D
REFRESH-INTERVAL:P3D
CALSCALE:GREGORIAN
BEGIN:VEVENT
DTSTART:20090901T160000Z
DTEND:20090901T160000Z
X-MICROSOFT-CDO-ALLDAYEVENT:FALSE
SUMMARY:Associate Committee Meeting - 09/01/2009
DESCRIPTION:MEETING AGENDA 1. Welcome remarks: N. Hantman 2. Conflict of Interest Statement 3. Mission statement 4. Introduction of all in attendance 5. 2009 Sub Committee Chairs and events C. BPAC Ad Journal Update: \n Chair: P. DiGiambatista Co-Chair: E. McMahon\n \n D. Woodcrest Golf Outing Recap: June 30\, 2009.\n Chair: C. Flowers Co-Chair: J. Craft\n \n E. Fall Golf Outing:\n Chair: D. Robinson Co-Chair: J. Nowak\n \n F. Associate Expo:\n Chair: A. Goldman Co-Chair: J. Michaelis\n \n G. Cigar Night: Chair: J. Sauder 6. Member Services  J. Sauder\n \n 7. Build the Vote\n \n 8. Associate Appreciation Award Nominees\n \n 9. Associate of the 3rd Quarter Nominations   Due at next meeting September 1st\n \n 10. NJBA Associates update-N. Hantman\n \n 11. Lead Swap \n a. bring or email the names of member prospects for builders\, remodelers\, affordable housing builders\, and commercial builders to the next meeting. We need to get these builders/remodelers on a mailing list for the Associate Expo. 12. Old Business/New Business\n a. Run for Our Troops 5K Race/Walk   Saturday\, September 12th \n b. Builder/Realtor Expo   Mansion of Main Street   Tuesday\, September 15th Next Meeting: October 6th
X-ALT-DESC;FMTTYPE=text/html:<p>MEETING AGENDA</p> <p>1. Welcome remarks: N. Hantman</p> <p>2. Conflict of Interest Statement</p> <p>3. Mission statement</p> <p>4. Introduction of all in attendance</p> <p>5. 2009 Sub Committee Chairs and events</p> <p>C. BPAC Ad Journal Update: <br /> Chair: P. DiGiambatista Co-Chair: E. McMahon<br /> <br /> D. Woodcrest Golf Outing Recap: June 30\, 2009.<br /> Chair: C. Flowers Co-Chair: J. Craft<br /> <br /> E. Fall Golf Outing:<br /> Chair: D. Robinson Co-Chair: J. Nowak<br /> <br /> F. Associate Expo:<br /> Chair: A. Goldman Co-Chair: J. Michaelis<br /> <br /> G. Cigar Night: Chair: J. Sauder</p> <p>6. Member Services &ndash\;J. Sauder<br /> <br /> 7. Build the Vote<br /> <br /> 8. Associate Appreciation Award Nominees<br /> <br /> 9. Associate of the 3rd Quarter Nominations &ndash\; Due at next meeting September 1st<br /> <br /> 10. NJBA Associates update-N. Hantman<br /> <br /> 11. Lead Swap <br /> a. bring or email the names of member prospects for builders\, remodelers\, affordable housing builders\, and commercial builders to the next meeting. We need to get these builders/remodelers on a mailing list for the Associate Expo.</p> <p>12. Old Business/New Business<br /> a. Run for Our Troops 5K Race/Walk &ndash\; Saturday\, September 12th <br /> b. Builder/Realtor Expo &ndash\; Mansion of Main Street &ndash\; Tuesday\, September 15th</p> <p>Next Meeting: October 6th</p> <p>&nbsp\;</p>
LOCATION:114 Haddontowne Court Cherry Hill\, NJ 08043
UID:e.9292.108
SEQUENCE:3
DTSTAMP:20260422T023307Z
URL:https://members.blsj.com/events/details/associate-committee-meeting-09-01-2009-09-01-2009-108
END:VEVENT

END:VCALENDAR
