BEGIN:VCALENDAR
VERSION:2.0
PRODID:-//ChamberMaster//Event Calendar 2.0//EN
METHOD:PUBLISH
X-PUBLISHED-TTL:P3D
REFRESH-INTERVAL:P3D
CALSCALE:GREGORIAN
BEGIN:VEVENT
DTSTART:20060815T160000Z
DTEND:20060815T160000Z
X-MICROSOFT-CDO-ALLDAYEVENT:FALSE
SUMMARY:Associate Committee Meeting - 08/15/2006
DESCRIPTION:TO:   Associates Committee FROM: Michael Kurpiel ~ Chair Mike.Kurpiel@strober.com          Nicole Hantman ~ Vice Chair Nicole_Hantman@Countrywide.Com  SUBJECT: ASSOCIATES COMMITTEE MEETING  PLACE: League Office DATE: August 15\, 2006  Special TIME: 1:00 PM  MEETING AGENDA  1.   Certified Graduate Associate Program (M. Kurpiel) 2.   Fundraising Committee Update/Call for Volunteers (J. Marchese) 3.   Associate BPAC Fundraiser (N. Hantman) 4.   Summer Golf Outing (S. Olin) Final Report 5.   Fall Outing Report (J. Michaelis) 6.   Compass Committee (A. Brown) a.   New Member Profile b.   Associate Spotlight c.   BARBECUE Report 7.   NJBA Associates (N. Hantman) a.   Associates Gala b.   Tim Schaeffer sponsorships needed (1 from Assoc. Committee) c.   FYI: Associate of the Quarter submission\, Annie Brown 8.   NAHB Associate Report/Fall Boards September 13-17 (M. Kurpiel~S. Olin) a.   NAHB Build PAC Discussion (M. Kurpiel) 9.   Associate Expo (J. Lopresti ~ K. Fisher) 10.   Old Business/New Business   NEXT MEETING: September 12\, 10 AM         I will attend   I will not be able to attend  Name & Company:
X-ALT-DESC;FMTTYPE=text/html:TO:   Associates Committee FROM: Michael Kurpiel ~ Chair Mike.Kurpiel@strober.com          Nicole Hantman ~ Vice Chair Nicole_Hantman@Countrywide.Com  SUBJECT: ASSOCIATES COMMITTEE MEETING  PLACE: League Office DATE: August 15\, 2006  Special TIME: 1:00 PM  MEETING AGENDA  1.   Certified Graduate Associate Program (M. Kurpiel) 2.   Fundraising Committee Update/Call for Volunteers (J. Marchese) 3.   Associate BPAC Fundraiser (N. Hantman) 4.   Summer Golf Outing (S. Olin) Final Report 5.   Fall Outing Report (J. Michaelis) 6.   Compass Committee (A. Brown) a.   New Member Profile b.   Associate Spotlight c.   BARBECUE Report 7.   NJBA Associates (N. Hantman) a.   Associates Gala b.   Tim Schaeffer sponsorships needed (1 from Assoc. Committee) c.   FYI: Associate of the Quarter submission\, Annie Brown 8.   NAHB Associate Report/Fall Boards September 13-17 (M. Kurpiel~S. Olin) a.   NAHB Build PAC Discussion (M. Kurpiel) 9.   Associate Expo (J. Lopresti ~ K. Fisher) 10.   Old Business/New Business   NEXT MEETING: September 12\, 10 AM         I will attend   I will not be able to attend  Name & Company:   
LOCATION:\, NJ
UID:e.9292.98
SEQUENCE:3
DTSTAMP:20260421T223308Z
URL:https://members.blsj.com/events/details/associate-committee-meeting-08-15-2006-08-15-2006-98
END:VEVENT

END:VCALENDAR
