BEGIN:VCALENDAR
VERSION:2.0
PRODID:-//ChamberMaster//Event Calendar 2.0//EN
METHOD:PUBLISH
X-PUBLISHED-TTL:P3D
REFRESH-INTERVAL:P3D
CALSCALE:GREGORIAN
BEGIN:VEVENT
DTSTART:20100803T160000Z
DTEND:20100803T160000Z
X-MICROSOFT-CDO-ALLDAYEVENT:FALSE
SUMMARY:Associate Committee meeting - 08/03/2010
DESCRIPTION:TO: Associates Committee\n \n FROM: Nicole Hantman ~ Chair / Nicolehantman@aol.com\n \n SUBJECT: ASSOCIATES COMMITTEE MEETING\n \n PLACE: League Office\n \n DATE: August 3\, 2010 TIME: 10:00 AM\n \n MEETING AGENDA: \n 1. Welcome remarks: N. Hantman\n 2. Conflict of Interest Statement\n 3. Mission Statement\n 4. Introduction of all in attendance\n 5. Committee Updates and Review: \n a. Summer golf outing: June 21st   Laurel Creek Country Club\n b. Fall golf outing: September 20th   Little Mill Country Club\n c. Associate Expo: October 20th   Lucien's Manor\n d. Scotch and Cigar Night: November 23rd   LaVeranda\, Phila\, PA\n e. BPAC Ad Journal: Peer-to-Peer Outreach\n 6. Member Services  \n 7. NJBA Associates update- N. Hantman\n 8. NAHB update\n 9. Upcoming Speakers: \n September - Michael Kurpiel\, ProBuild: National Associate Chairman at National Association of Home Builders\n October   Howard VanNatta\, VanNatta Mechanical Corp.: NJBA Associate Vice President\n 10. SJBPAC Report\n 11. Lead Swap\n 12. Old Business/New Business
X-ALT-DESC;FMTTYPE=text/html:<p>TO: Associates Committee<br /> <br /> FROM: Nicole Hantman ~ Chair / Nicolehantman@aol.com<br /> <br /> SUBJECT: ASSOCIATES COMMITTEE MEETING<br /> <br /> PLACE: League Office<br /> <br /> DATE: August 3\, 2010 TIME: 10:00 AM<br /> <br /> MEETING AGENDA: <br /> 1. Welcome remarks: N. Hantman<br /> 2. Conflict of Interest Statement<br /> 3. Mission Statement<br /> 4. Introduction of all in attendance<br /> 5. Committee Updates and Review: <br /> a. Summer golf outing: June 21st &ndash\; Laurel Creek Country Club<br /> b. Fall golf outing: September 20th &ndash\; Little Mill Country Club<br /> c. Associate Expo: October 20th &ndash\; Lucien&rsquo\;s Manor<br /> d. Scotch and Cigar Night: November 23rd &ndash\; LaVeranda\, Phila\, PA<br /> e. BPAC Ad Journal: Peer-to-Peer Outreach<br /> 6. Member Services &ndash\;<br /> 7. NJBA Associates update- N. Hantman<br /> 8. NAHB update<br /> 9. Upcoming Speakers: <br /> September - Michael Kurpiel\, ProBuild: National Associate Chairman at National Association of Home Builders<br /> October &ndash\; Howard VanNatta\, VanNatta Mechanical Corp.: NJBA Associate Vice President<br /> 10. SJBPAC Report<br /> 11. Lead Swap<br /> 12. Old Business/New Business</p> <p>&nbsp\;</p>
LOCATION:114 Haddontowne Court Cherry Hill\, NJ 08034
UID:e.9292.343
SEQUENCE:3
DTSTAMP:20260421T104533Z
URL:https://members.blsj.com/events/details/associate-committee-meeting-08-03-2010-08-03-2010-343
END:VEVENT

END:VCALENDAR
