BEGIN:VCALENDAR
VERSION:2.0
PRODID:-//ChamberMaster//Event Calendar 2.0//EN
METHOD:PUBLISH
X-PUBLISHED-TTL:P3D
REFRESH-INTERVAL:P3D
CALSCALE:GREGORIAN
BEGIN:VEVENT
DTSTART:20090505T160000Z
DTEND:20090505T160000Z
X-MICROSOFT-CDO-ALLDAYEVENT:FALSE
SUMMARY:Associate Committee Meeting - 05/05/2009
DESCRIPTION:To: Associates Committee\n From : Nicole Hantman ~ Vice President of Associate Affairs \n Subject: Associates Committee Meeting \n Place: BLSJ Office\n Date : May 5\, 2009 \n Time : 10 A.M. \n MEETING AGENDA 1. Welcome remarks : N. Hantman \n 2. Conflict of Interest Statement \n 3. BLSJ Mission Statement \n 4. Sub-Committee Reports :\n a. BPAC Ad Journal :\n Chair : P. DiGiamatista Co-chair : D. Robinson b. Woodcrest Golf Outing Jamaican Jam :\n Chair : C. Flowers Co-Chair : J. Craft c. Fall Outing Little Mill \n Chair- D. Robinson Co-chair J. Nowak \n \n d. Associates Expo :\n Chair : A. Goldman Co-Chair J. Michaelis e. Cigar Night :\n Chair : J. Sauder 3. Member Services :\n Chair : J. Sauder\n \n 4. NJBA Associates : N. Hantman \n \n 5. Lead Swap : \n \n 6. Old Business/ New Business : SMC Mixer 5/7/09 5:30 to 7:30\n      Scotland Run Golf Outing - 2010\n \n Next Meeting : June 2\, 2009
X-ALT-DESC;FMTTYPE=text/html:<p>To: Associates Committee<br /> From : Nicole Hantman ~ Vice President of Associate Affairs <br /> Subject: Associates Committee Meeting <br /> Place: BLSJ Office<br /> Date : May 5\, 2009 <br /> Time : 10 A.M.</p> <p><br /> MEETING AGENDA</p> <p>1. Welcome remarks : N. Hantman <br /> 2. Conflict of Interest Statement <br /> 3. BLSJ Mission Statement <br /> 4. Sub-Committee Reports :<br /> a. BPAC Ad Journal :<br /> Chair : P. DiGiamatista Co-chair : D. Robinson</p> <p>b. Woodcrest Golf Outing Jamaican Jam :<br /> Chair : C. Flowers Co-Chair : J. Craft</p> <p>c. Fall Outing Little Mill <br /> Chair- D. Robinson Co-chair J. Nowak <br /> <br /> d. Associates Expo :<br /> Chair : A. Goldman Co-Chair J. Michaelis</p> <p>e. Cigar Night :<br /> Chair : J. Sauder</p> <p>3. Member Services :<br /> Chair : J. Sauder<br /> <br /> 4. NJBA Associates : N. Hantman <br /> <br /> 5. Lead Swap : <br /> <br /> 6. Old Business/ New Business : SMC Mixer 5/7/09 5:30 to 7:30<br /> &nbsp\;&nbsp\;&nbsp\;&nbsp\; Scotland Run Golf Outing - 2010<br /> <br /> Next Meeting : June 2\, 2009<br /> &nbsp\;</p>
LOCATION:114 Haddontowne Court Cherry Hill\, NJ 08034
UID:e.9292.109
SEQUENCE:3
DTSTAMP:20260422T074836Z
URL:https://members.blsj.com/events/details/associate-committee-meeting-05-05-2009-05-05-2009-109
END:VEVENT

END:VCALENDAR
