BEGIN:VCALENDAR
VERSION:2.0
PRODID:-//ChamberMaster//Event Calendar 2.0//EN
METHOD:PUBLISH
X-PUBLISHED-TTL:P3D
REFRESH-INTERVAL:P3D
CALSCALE:GREGORIAN
BEGIN:VEVENT
DTSTART:20060418T160000Z
DTEND:20060418T160000Z
X-MICROSOFT-CDO-ALLDAYEVENT:FALSE
SUMMARY:Associate Committee Meeting - 04/18/2006
DESCRIPTION:PLEASE NOTE THAT THE DATE OF THE ASSOCIATE COMMITTEE MEETING HAS BEEN CHANGED TO TUESDAY\, APRIL 18th THERE WILL BE A SPECIAL PRESENTATION BY CAROL ANN SHORT\, ESQ. AND NANCY WITTENBERG... THEY WILL BE GIVING AN UPDATE ON LEGISLATIVE AND ENVIRONMENTAL ISSUES.
X-ALT-DESC;FMTTYPE=text/html:PLEASE NOTE THAT THE DATE OF THE ASSOCIATE COMMITTEE MEETING HAS BEEN CHANGED TO TUESDAY\, APRIL 18th THERE WILL BE A SPECIAL PRESENTATION BY CAROL ANN SHORT\, ESQ. AND NANCY WITTENBERG... THEY WILL BE GIVING AN UPDATE ON LEGISLATIVE AND ENVIRONMENTAL ISSUES. 
LOCATION:\, NJ
UID:e.9292.110
SEQUENCE:3
DTSTAMP:20260421T151909Z
URL:https://members.blsj.com/events/details/associate-committee-meeting-04-18-2006-04-18-2006-110
END:VEVENT

END:VCALENDAR
