BEGIN:VCALENDAR
VERSION:2.0
PRODID:-//ChamberMaster//Event Calendar 2.0//EN
METHOD:PUBLISH
X-PUBLISHED-TTL:P3D
REFRESH-INTERVAL:P3D
CALSCALE:GREGORIAN
BEGIN:VEVENT
DTSTART:20070403T160000Z
DTEND:20070403T220000Z
X-MICROSOFT-CDO-ALLDAYEVENT:FALSE
SUMMARY:Associate Committee meeting - 04/03/2007
DESCRIPTION:Welcome remarks (N. Hantman)     Conflict of Interest Statement      Certified Graduate Associate Program Evaluation (M. Spencer)             a. Associates Educational Seminars update      Golf Outings                Spring - Little Mill ( A. Brown/C. Becker )          Summer- Vineyard Golf at Renault Winery (B. Glass)           Fall  Galloway ( J. Michaelis)               Compass Committee 07 Planning (A. Brown)              Associate Spotlight         Mentor Program               Associate Expo - October 17th (T. Wiser ~ A .Goldman)     NJBA Associates Committee (N. Hantman)     NAHB Associates Council/Committee ( M. Kurpiel)     Old Business/New Business    NEXT MEETING: June 5\, 2007 @ 10 AM
X-ALT-DESC;FMTTYPE=text/html:<ol style="MARGIN-TOP: 0in" type="1">     <li style="MARGIN: 0in 0in 0pt"><span style="FONT-SIZE: 11pt">Welcome remarks (N. Hantman)</span></li>     <li style="MARGIN: 0in 0in 0pt"><span style="FONT-SIZE: 11pt">Conflict of Interest Statement </span></li>     <li style="MARGIN: 0in 0in 0pt"><span style="FONT-SIZE: 11pt\; COLOR: black">Certified Graduate Associate Program Evaluation (M. Spencer)</span></li> </ol> <div style="MARGIN: 0in 0in 0pt 0.25in"><span style="FONT-SIZE: 11pt\; COLOR: black">&nbsp\;&nbsp\;&nbsp\;&nbsp\;&nbsp\;&nbsp\;&nbsp\;&nbsp\;&nbsp\;&nbsp\; a. Associates Educational Seminars update</span></div> <ol style="MARGIN-TOP: 0in" type="1" start="4">     <li style="MARGIN: 0in 0in 0pt"><span style="FONT-SIZE: 11pt">Golf Outings </span>     <ol style="MARGIN-TOP: 0in" type="a">         <li style="MARGIN: 0in 0in 0pt"><span style="FONT-SIZE: 11pt">&nbsp\;Spring - Little Mill ( A. Brown/C. Becker ) </span></li>         <li style="MARGIN: 0in 0in 0pt"><span style="FONT-SIZE: 11pt">Summer- Vineyard Golf at Renault Winery (B. Glass)</span></li>         <li style="MARGIN: 0in 0in 0pt"><sup><span style="FONT-SIZE: 11pt">&nbsp\;</span></sup><span style="FONT-SIZE: 11pt">&nbsp\;Fall &ndash\;Galloway&nbsp\;( J. Michaelis)</span></li>     </ol>     </li>     <li style="MARGIN: 0in 0in 0pt\; COLOR: black"><span style="FONT-SIZE: 11pt">Compass Committee 07 Planning (A. Brown)</span>     <ol style="MARGIN-TOP: 0in" type="a">         <li style="MARGIN: 0in 0in 0pt\; COLOR: black"><span style="FONT-SIZE: 11pt">Associate Spotlight</span></li>         <li style="MARGIN: 0in 0in 0pt\; COLOR: black"><span style="FONT-SIZE: 11pt">Mentor</span><span style="FONT-SIZE: 11pt"> Program</span></li>     </ol>     </li>     <li style="MARGIN: 0in 0in 0pt\; COLOR: black"><span style="FONT-SIZE: 11pt\; COLOR: windowtext">Associate Expo - October 17<sup>th</sup> (T. Wiser ~ A .Goldman)</span></li>     <li style="MARGIN: 0in 0in 0pt\; COLOR: black"><span style="FONT-SIZE: 11pt\; COLOR: windowtext">NJBA Associates Committee (N. Hantman)</span></li>     <li style="MARGIN: 0in 0in 0pt\; COLOR: black"><span style="FONT-SIZE: 11pt\; COLOR: windowtext">NAHB Associates Council/Committee ( M. Kurpiel)</span></li>     <li style="MARGIN: 0in 0in 0pt\; COLOR: black"><span style="FONT-SIZE: 11pt">Old Business/New Business</span></li> </ol> <div style="MARGIN: 0in 0in 0pt 0.25in">&nbsp\;</div> <div style="MARGIN: 0in 0in 0pt 0.25in"><strong><span style="FONT-SIZE: 10pt">NEXT MEETING: June 5\, 2007 @ 10 AM </span></strong></div>
LOCATION:\, NJ
UID:e.9292.340
SEQUENCE:3
DTSTAMP:20260422T074830Z
URL:https://members.blsj.com/events/details/associate-committee-meeting-04-03-2007-04-03-2007-340
END:VEVENT

END:VCALENDAR
