BEGIN:VCALENDAR
VERSION:2.0
PRODID:-//ChamberMaster//Event Calendar 2.0//EN
METHOD:PUBLISH
X-PUBLISHED-TTL:P3D
REFRESH-INTERVAL:P3D
CALSCALE:GREGORIAN
BEGIN:VEVENT
DTSTART:20070306T170000Z
DTEND:20070306T230000Z
X-MICROSOFT-CDO-ALLDAYEVENT:FALSE
SUMMARY:Associate Committee meeting - 03/06/2007
DESCRIPTION:Conflict of Interest Statement      Mary B. Anderson   2006 NJBA President              Industry Update/NJBA Challenges          Futureof NJBA\, direction                Certified Graduate Associate Program Evaluation (M. Spencer)   3.     Associate BPAC Fundraiser  a.   BPAC Boxing Feb 21st -Recap ( B. GLass) b.   BPAC Auction March 28th (A. Brown) 4.      Meet the Builder Night March 28th (B. Murphy) 5.      Compass Committee 07 Planning (A. Brown) c.   Associate Spotlight d.   Mentor Program 6.      Associate Expo Ideas/Direction for October 17th (T. Wiser ~ J. Lahl) 7.      NJBA Associates Committee (N. Hantman) 8.      NAHB Associates Council/Committee ( M. Kurpiel) 9.      Old Business/New Business   NEXT MEETING: April 3\, 2007
X-ALT-DESC;FMTTYPE=text/html:<ol style="MARGIN-TOP: 0in" type="1">     <li style="MARGIN: 0in 0in 0pt">Conflict of Interest Statement </li>     <li style="MARGIN: 0in 0in 0pt">Mary B. Anderson &ndash\; 2006 NJBA President     <ul style="MARGIN-TOP: 0in" type="disc">         <li style="MARGIN: 0in 0in 0pt">Industry Update/NJBA Challenges </li>         <li style="MARGIN: 0in 0in 0pt">Futureof NJBA\, direction </li>     </ul>     </li>     <li style="MARGIN: 0in 0in 0pt"><span style="FONT-SIZE: 11pt\; COLOR: black">Certified Graduate Associate Program Evaluation (M. Spencer)</span> </li> </ol> <div style="MARGIN: 0in 0in 0pt 0.25in"><span style="FONT-SIZE: 11pt\; COLOR: black">3.&nbsp\;&nbsp\;&nbsp\;&nbsp\; A</span><span style="FONT-SIZE: 11pt">ssociate BPAC Fundraiser </span></div> <div style="MARGIN: 0in 0in 0pt 1in\; TEXT-INDENT: -0.25in"><span style="FONT-SIZE: 11pt">a.&nbsp\;&nbsp\; BPAC Boxing Feb 21<sup>st</sup>&nbsp\;-Recap ( B. GLass)</span></div> <div style="MARGIN: 0in 0in 0pt 1in\; TEXT-INDENT: -0.25in"><span style="FONT-SIZE: 11pt">b.&nbsp\;&nbsp\; BPAC Auction March 28<sup>th</sup> (A. Brown)</span></div> <div style="MARGIN: 0in 0in 0pt 0.5in\; TEXT-INDENT: -0.25in"><span style="FONT-SIZE: 11pt\; COLOR: black">4.<span style="FONT: 7pt Â’Times New RomanÂ’">&nbsp\;&nbsp\;&nbsp\;&nbsp\;&nbsp\; </span></span><span style="FONT-SIZE: 11pt\; COLOR: black">Meet the Builder Night March 28<sup>th</sup> (B. Murphy)</span></div> <div style="MARGIN: 0in 0in 0pt 0.5in\; TEXT-INDENT: -0.25in"><span style="FONT-SIZE: 11pt\; COLOR: black">5.<span style="FONT: 7pt Â’Times New RomanÂ’">&nbsp\;&nbsp\;&nbsp\;&nbsp\;&nbsp\; </span></span><span style="FONT-SIZE: 11pt\; COLOR: black">Compass Committee 07 Planning (A. Brown)</span></div> <div style="MARGIN: 0in 0in 0pt 1in\; TEXT-INDENT: -0.25in"><span style="FONT-SIZE: 11pt\; COLOR: black">c.&nbsp\;&nbsp\; Associate Spotlight</span></div> <div style="MARGIN: 0in 0in 0pt 1in\; TEXT-INDENT: -0.25in"><span style="FONT-SIZE: 11pt\; COLOR: black">d.&nbsp\;&nbsp\; Mentor Program</span></div> <div style="MARGIN: 0in 0in 0pt 0.5in\; TEXT-INDENT: -0.25in"><span style="FONT-SIZE: 11pt\; COLOR: black">6.<span style="FONT: 7pt Â’Times New RomanÂ’">&nbsp\;&nbsp\;&nbsp\;&nbsp\;&nbsp\; </span></span><span style="FONT-SIZE: 11pt">Associate Expo Ideas/Direction for October 17<sup>th</sup> (T. Wiser ~ J. Lahl)</span></div> <div style="MARGIN: 0in 0in 0pt 0.5in\; TEXT-INDENT: -0.25in"><span style="FONT-SIZE: 11pt\; COLOR: black">7.<span style="FONT: 7pt Â’Times New RomanÂ’">&nbsp\;&nbsp\;&nbsp\;&nbsp\;&nbsp\; </span></span><span style="FONT-SIZE: 11pt">NJBA Associates Committee (N. Hantman)</span></div> <div style="MARGIN: 0in 0in 0pt 0.5in\; TEXT-INDENT: -0.25in"><span style="FONT-SIZE: 11pt\; COLOR: black">8.<span style="FONT: 7pt Â’Times New RomanÂ’">&nbsp\;&nbsp\;&nbsp\;&nbsp\;&nbsp\; </span></span><span style="FONT-SIZE: 11pt">NAHB Associates Council/Committee ( M. Kurpiel)</span></div> <div style="MARGIN: 0in 0in 0pt 0.5in\; TEXT-INDENT: -0.25in"><span style="FONT-SIZE: 11pt\; COLOR: black">9.<span style="FONT: 7pt Â’Times New RomanÂ’">&nbsp\;&nbsp\;&nbsp\;&nbsp\;&nbsp\; </span></span><span style="FONT-SIZE: 11pt\; COLOR: black">Old Business/New Business</span></div> <div style="MARGIN: 0in 0in 0pt 0.25in">&nbsp\;</div> <div style="MARGIN: 0in 0in 0pt 0.25in"><strong><span style="FONT-SIZE: 10pt">NEXT MEETING: April 3\, 2007</span></strong></div>
LOCATION:\, NJ
UID:e.9292.669
SEQUENCE:3
DTSTAMP:20260422T063211Z
URL:https://members.blsj.com/events/details/associate-committee-meeting-03-06-2007-03-06-2007-669
END:VEVENT

END:VCALENDAR
