BEGIN:VCALENDAR
VERSION:2.0
PRODID:-//ChamberMaster//Event Calendar 2.0//EN
METHOD:PUBLISH
X-PUBLISHED-TTL:P3D
REFRESH-INTERVAL:P3D
CALSCALE:GREGORIAN
BEGIN:VEVENT
DTSTART:20060209T170000Z
DTEND:20060209T230000Z
X-MICROSOFT-CDO-ALLDAYEVENT:FALSE
SUMMARY:Associate Committee Meeting - 02/09/2006
DESCRIPTION:AGENDA:  1. Associate BPAC Fundraiser (N. Hantman)          a. BPAC Ad Journal Final '05 net profit          b. BPAC Boxing Night (M. Paparone) 2. Spring Golf Outing (A. Brown) 3. Texas Hold em Tournament (S. Olin) 4. Meet the Builder Night (B. Murphy) 5. NJBA Associates (N. Hantman) 6. NAHB Associates (S. Olin & N. Hantman) 7. Old Business/New Business - NEXT MEETING Feb 7\, 10 am    Builder of the Year
X-ALT-DESC;FMTTYPE=text/html:AGENDA:  1. Associate BPAC Fundraiser (N. Hantman)          a. BPAC Ad Journal Final '05 net profit          b. BPAC Boxing Night (M. Paparone) 2. Spring Golf Outing (A. Brown) 3. Texas Hold em Tournament (S. Olin) 4. Meet the Builder Night (B. Murphy) 5. NJBA Associates (N. Hantman) 6. NAHB Associates (S. Olin & N. Hantman) 7. Old Business/New Business - NEXT MEETING Feb 7\, 10 am    Builder of the Year 
LOCATION:\, NJ
UID:e.9292.82
SEQUENCE:3
DTSTAMP:20260421T123007Z
URL:https://members.blsj.com/events/details/associate-committee-meeting-02-09-2006-02-09-2006-82
END:VEVENT

END:VCALENDAR
