BEGIN:VCALENDAR
VERSION:2.0
PRODID:-//ChamberMaster//Event Calendar 2.0//EN
METHOD:PUBLISH
X-PUBLISHED-TTL:P3D
REFRESH-INTERVAL:P3D
CALSCALE:GREGORIAN
BEGIN:VEVENT
DTSTART:20070109T230000Z
DTEND:20070109T230000Z
X-MICROSOFT-CDO-ALLDAYEVENT:FALSE
SUMMARY:Associate Committee Meeting - 01/09/2007
DESCRIPTION:MEETING AGENDA       Welcome remarks (N. Hantman)      Certified Graduate Associate Program Evaluation (M. Spencer)              a. Associates Educational Seminars needed.      Associate BPAC Fundraiser               BPAC Boxing Feb 21st Marriott Hotel\, Mt. Laurel          BPAC Auction March 28th (A. Brown)                Meet the Builder Night March 28th (B. Murphy)      Compass Committee 07 Planning (A. Brown)              Associate Spotlight          Mentor Program                Associate Expo Ideas/Direction for October 17th (T. Wiser ~ J. Lahl)      NJBA Associates Committee (N. Hantman)      NAHB Associates Council/Committee ( M. Kurpiel)      Old Business/New Business   Light Lunch (probably pizza) will be served  Please RSVP No LATER THAN FRIDAY\, JANUARY th   ____I will attend   Name: _______________________________________________
X-ALT-DESC;FMTTYPE=text/html:<span><font style="font-size: 12px\;"> <p align="center" style="margin: 0in 0in 0pt\; text-align: center\;" class="MsoNormal"><span style="font-size: 11pt\; font-family: Â’Comic Sans MSÂ’\;"></span></p> <p align="center" style="margin: 0in 0in 0pt\; text-align: center\;" class="MsoNormal">&nbsp\;</p> <div align="center" style="margin: 0in 0in 0pt\;"><span style="font-size: 10pt\;"><u>MEETING AGENDA</u></span></div> <div align="center" style="margin: 0in 0in 0pt\;"><u></u></div> <ol type="1" style="margin-top: 0in\;">     <li style="margin: 0in 0in 0pt\;"><span style="font-size: 10pt\;">Welcome remarks (N. Hantman)</span> </li>     <li style="margin: 0in 0in 0pt\;"><span style="font-size: 10pt\; color: black\;">Certified Graduate Associate Program Evaluation (M. Spencer)</span> </li> </ol> <div style="margin: 0in 0in 0pt 0.25in\;"><span style="font-size: 10pt\; color: black\;">&nbsp\;&nbsp\;&nbsp\;&nbsp\;&nbsp\;&nbsp\;&nbsp\;&nbsp\;&nbsp\;&nbsp\; a. Associates Educational Seminars needed.</span></div> <ol type="1" start="3" style="margin-top: 0in\;">     <li style="margin: 0in 0in 0pt\;"><span style="font-size: 10pt\;">Associate BPAC Fundraiser </span>     <ol type="a" style="margin-top: 0in\;">         <li style="margin: 0in 0in 0pt\;"><span style="font-size: 10pt\;">BPAC Boxing Feb 21<sup>st</sup>&nbsp\;Marriott Hotel\, Mt. Laurel</span> </li>         <li style="margin: 0in 0in 0pt\;"><span style="font-size: 10pt\;">BPAC Auction March 28<sup>th</sup> (A. Brown)</span> </li>     </ol>     </li>     <li style="margin: 0in 0in 0pt\; color: black\;"><span style="font-size: 10pt\;">Meet the Builder Night March 28<sup>th</sup> (B. Murphy)</span> </li>     <li style="margin: 0in 0in 0pt\; color: black\;"><span style="font-size: 10pt\;">Compass Committee 07 Planning (A. Brown)</span>     <ol type="a" style="margin-top: 0in\;">         <li style="margin: 0in 0in 0pt\; color: black\;"><span style="font-size: 10pt\;">Associate Spotlight</span> </li>         <li style="margin: 0in 0in 0pt\; color: black\;"><span style="font-size: 10pt\;">Mentor</span><span style="font-size: 10pt\;"> Program</span> </li>     </ol>     </li>     <li style="margin: 0in 0in 0pt\; color: black\;"><span style="font-size: 10pt\; color: windowtext\;">Associate Expo Ideas/Direction for October 17<sup>th</sup> (T. Wiser ~ J. Lahl)</span> </li>     <li style="margin: 0in 0in 0pt\; color: black\;"><span style="font-size: 10pt\; color: windowtext\;">NJBA Associates Committee (N. Hantman)</span> </li>     <li style="margin: 0in 0in 0pt\; color: black\;"><span style="font-size: 10pt\; color: windowtext\;">NAHB Associates Council/Committee ( M. Kurpiel)</span> </li>     <li style="margin: 0in 0in 0pt\; color: black\;"><span style="font-size: 10pt\;">Old Business/New Business</span> </li> </ol> <p align="center" style="margin: 0in 0in 0pt\; text-align: center\;" class="MsoNormal"><u>Light Lunch (probably pizza) will be served</u></p> <p align="center" style="margin: 0in 0in 0pt\; text-align: center\;" class="MsoNormal"><u></u></p> <p align="center" style="margin: 0in 0in 0pt\; text-align: center\;" class="MsoNormal"><u>Please RSVP No LATER THAN FRIDAY\, JANUARY th</u></p> <p align="center" style="margin: 0in 0in 0pt\; text-align: center\;" class="MsoNormal">&nbsp\;</p> <p align="left" style="margin: 0in 0in 0pt\; text-align: center\;" class="MsoNormal">____I will attend</p> <p align="left" style="margin: 0in 0in 0pt\; text-align: center\;" class="MsoNormal">&nbsp\;</p> <p align="left" style="margin: 0in 0in 0pt\; text-align: center\;" class="MsoNormal">Name: _______________________________________________</p> </font></span>
LOCATION:BLSJ Cherry Hill\, NJ 08034
UID:e.9292.688
SEQUENCE:3
DTSTAMP:20260422T052302Z
URL:https://members.blsj.com/events/details/associate-committee-meeting-01-09-2007-01-09-2007-688
END:VEVENT

END:VCALENDAR
