BEGIN:VCALENDAR
VERSION:2.0
PRODID:-//ChamberMaster//Event Calendar 2.0//EN
METHOD:PUBLISH
X-PUBLISHED-TTL:P3D
REFRESH-INTERVAL:P3D
CALSCALE:GREGORIAN
BEGIN:VEVENT
DTSTART:20041215T170000Z
DTEND:20041215T170000Z
X-MICROSOFT-CDO-ALLDAYEVENT:FALSE
SUMMARY:Annual Installation of Officers & Holiday Party
DESCRIPTION:
X-ALT-DESC;FMTTYPE=text/html:
LOCATION:Regency Palace Rte 73 & Fellowship Rd Mt. Laurel\, NJ 08053
UID:e.9292.26
SEQUENCE:3
DTSTAMP:20260420T190105Z
URL:https://members.blsj.com/events/details/annual-installation-of-officers-holiday-party-12-15-2004-26
END:VEVENT

END:VCALENDAR
