BEGIN:VCALENDAR
VERSION:2.0
PRODID:-//ChamberMaster//Event Calendar 2.0//EN
METHOD:PUBLISH
X-PUBLISHED-TTL:P3D
REFRESH-INTERVAL:P3D
CALSCALE:GREGORIAN
BEGIN:VEVENT
DTSTART:20070405T220000Z
DTEND:20070405T220000Z
X-MICROSOFT-CDO-ALLDAYEVENT:FALSE
SUMMARY:An Overview of the New Jersey Construction Lien Law
DESCRIPTION:An Overview of the New Jersey Construction Lien Law How to Use It and How to Defend Against It   Lien claim rights are afforded to contractors\, subcontractors and suppliers. This seminar will educate members on completing the necessary forms\, providing notice to the appropriate parties\, and ways to avoid litigation. It will also cover an overview of the filing requirements for public\, commercial and residential projects\, how to use the statutory provisions to one's benefit\, and how to protect oneself from lien claims. Speakers: James A. Kozachek\, Esq. & Matt Burns\, Esq./Flaster Greenberg PC
X-ALT-DESC;FMTTYPE=text/html:<div style="MARGIN: 0in 0in 0pt" align="center"><font style="FONT-SIZE: 14px"> <div style="MARGIN: 0in 0in 0pt" align="center"><font color="#ff0000">An Overview of the New Jersey Construction Lien Law</font></div> <div style="MARGIN: 0in 0in 0pt" align="center"><font color="#ff0000">How to Use It and How to Defend Against It</font></div> <div style="MARGIN: 0in 0in 0pt" align="center"></div> </font></div> <div style="MARGIN: 0in 0in 0pt">Lien claim rights are afforded to contractors\, subcontractors and suppliers. This seminar will educate members on completing the necessary forms\, providing notice to the appropriate parties\, and ways to avoid litigation. It will also cover an overview of the filing requirements for public\, commercial and residential projects\, how to use the statutory provisions to one&rsquo\;s benefit\, and how to protect oneself from lien claims.</div> <p>Speakers: James A. Kozachek\, Esq. &amp\; Matt Burns\, Esq./Flaster Greenberg PC </p>
LOCATION:\, NJ
UID:e.9292.90
SEQUENCE:3
DTSTAMP:20260422T080116Z
URL:https://members.blsj.com/events/details/an-overview-of-the-new-jersey-construction-lien-law-04-05-2007-90
END:VEVENT

END:VCALENDAR
