BEGIN:VCALENDAR
VERSION:2.0
PRODID:-//ChamberMaster//Event Calendar 2.0//EN
METHOD:PUBLISH
X-PUBLISHED-TTL:P3D
REFRESH-INTERVAL:P3D
CALSCALE:GREGORIAN
BEGIN:VEVENT
DTSTART:20100330T220000Z
DTEND:20100330T160000Z
X-MICROSOFT-CDO-ALLDAYEVENT:FALSE
SUMMARY:Ambassador for Housing Breakfast
DESCRIPTION:Ambassadors for Housing Breakfast\n The Builders League of South Jersey wants to Thank You for being an Ambassador for Housing by providing you information on industry defense tactics for maintaining job security. Join us for a powerful presentation over breakfast\, featuring guest speaker Senator Donald Norcross (D) of New Jersey Legislative District (5) Date: Tuesday\, March 30\, 2010\n Time: 8:30 a.m.   9:00 a.m. Breakfast/Registration/Networking\n 9:00 a.m.   10:00 a.m. - Program\n Location: Builders League of South Jersey office\n FREE FOR AMBASSADORS Representing Camden and Gloucester Counties\, Senator Norcross was elected to the Senate in November 2009. He serves on the Law and Public Safety Committee and is the Vice-Chair of the Transportation Committee. Senator Norcross will share his views on this year's legislative session. Don't miss this informative event!\n      \n Scrambled Eggs * French Toast * Home Fries * Bacon * Sausage * Muffins Space is Limited * Reserve your seat by Friday\, March 26th.\n ___Yes\, I will attend the Ambassador Breakfast!\n ___No\, can't make it to this one\, but would like to be notified of the next Ambassador event.\n Name:_______________________________________________________________\n Company ____________________________________________________________\n Email:_______________________________________________________________\n Fax rsvp to: BLSJ at 856-616-8467\n Email rsvp to: marlene@blsj.com
X-ALT-DESC;FMTTYPE=text/html:<p><span style="font-size: small"><span style="color: rgb(255\,0\,0)"><strong>Ambassadors for Housing Breakfast</strong></span></span><span style="color: rgb(255\,0\,0)" /><br /> The Builders League of South Jersey wants to Thank You for being an Ambassador for Housing by providing you information on industry defense tactics for maintaining job security.</p> <p><span style="font-size: small"><strong>Join us for a powerful presentation over breakfast\, featuring guest speaker Senator Donald Norcross (D) of New Jersey Legislative District (5)</strong></span></p> <p><span style="color: #ff0000">Date: Tuesday\, March 30\, 2010<br /> Time: 8:30 a.m. &ndash\; 9:00 a.m. Breakfast/Registration/Networking<br /> 9:00 a.m. &ndash\; 10:00 a.m. - Program<br /> Location: Builders League of South Jersey office<br /> <strong>FREE FOR AMBASSADORS</strong></span></p> <p>Representing Camden and Gloucester Counties\, Senator Norcross was elected to the Senate in November 2009. He serves on the Law and Public Safety Committee and is the Vice-Chair of the Transportation Committee. Senator Norcross will share his views on this year&rsquo\;s legislative session.</p> <p>Don&rsquo\;t miss this informative event!<br /> &asymp\; &asymp\; &asymp\;<br /> Scrambled Eggs * French Toast * Home Fries * Bacon * Sausage * Muffins</p> <p><span style="color: #ff0000"><strong>Space is Limited * Reserve your seat by Friday\, March 26th.</strong></span><br /> ___Yes\, I will attend the Ambassador Breakfast!<br /> ___No\, can&rsquo\;t make it to this one\, but would like to be notified of the next Ambassador event.<br /> Name:_______________________________________________________________<br /> Company ____________________________________________________________<br /> Email:_______________________________________________________________<br /> Fax rsvp to: BLSJ at 856-616-8467<br /> Email rsvp to: marlene@blsj.com<br /> &nbsp\;</p>
LOCATION:114 Haddontowne Court Cherry Hill\, NJ 08034
UID:e.9292.217
SEQUENCE:3
DTSTAMP:20260421T181813Z
URL:https://members.blsj.com/events/details/ambassador-for-housing-breakfast-03-30-2010-217
END:VEVENT

END:VCALENDAR
