BEGIN:VCALENDAR
VERSION:2.0
PRODID:-//ChamberMaster//Event Calendar 2.0//EN
METHOD:PUBLISH
X-PUBLISHED-TTL:P3D
REFRESH-INTERVAL:P3D
CALSCALE:GREGORIAN
BEGIN:VEVENT
DTSTART:20091013T160000Z
DTEND:20091013T220000Z
X-MICROSOFT-CDO-ALLDAYEVENT:FALSE
SUMMARY:Action Committee Meeting - 10/13/2009
DESCRIPTION:
X-ALT-DESC;FMTTYPE=text/html:
LOCATION:BLSJ Cherry Hill\, NJ 08034
UID:e.9292.653
SEQUENCE:3
DTSTAMP:20260422T010954Z
URL:https://members.blsj.com/events/details/action-committee-meeting-10-13-2009-10-13-2009-653
END:VEVENT

END:VCALENDAR
