BEGIN:VCALENDAR
VERSION:2.0
PRODID:-//ChamberMaster//Event Calendar 2.0//EN
METHOD:PUBLISH
X-PUBLISHED-TTL:P3D
REFRESH-INTERVAL:P3D
CALSCALE:GREGORIAN
BEGIN:VEVENT
DTSTART:20050510T160000Z
DTEND:20050510T220000Z
X-MICROSOFT-CDO-ALLDAYEVENT:FALSE
SUMMARY:Action Committee Meeting - 05/10/2005
DESCRIPTION:
X-ALT-DESC;FMTTYPE=text/html:
LOCATION:BLSJ Cherry Hill\, NJ 08034
UID:e.9292.84
SEQUENCE:3
DTSTAMP:20260421T004852Z
URL:https://members.blsj.com/events/details/action-committee-meeting-05-10-2005-05-10-2005-84
END:VEVENT

END:VCALENDAR
