BEGIN:VCALENDAR
VERSION:2.0
PRODID:-//ChamberMaster//Event Calendar 2.0//EN
METHOD:PUBLISH
X-PUBLISHED-TTL:P3D
REFRESH-INTERVAL:P3D
CALSCALE:GREGORIAN
BEGIN:VEVENT
DTSTART:20050308T170000Z
DTEND:20050308T230000Z
X-MICROSOFT-CDO-ALLDAYEVENT:FALSE
SUMMARY:Action Committee Meeting - 03/08/2005
DESCRIPTION:
X-ALT-DESC;FMTTYPE=text/html:
LOCATION:BLSJ Cherry Hill\, NJ 08034
UID:e.9292.649
SEQUENCE:3
DTSTAMP:20260420T221833Z
URL:https://members.blsj.com/events/details/action-committee-meeting-03-08-2005-03-08-2005-649
END:VEVENT

END:VCALENDAR
