BEGIN:VCALENDAR
VERSION:2.0
PRODID:-//ChamberMaster//Event Calendar 2.0//EN
METHOD:PUBLISH
X-PUBLISHED-TTL:P3D
REFRESH-INTERVAL:P3D
CALSCALE:GREGORIAN
BEGIN:VEVENT
DTSTART:20050208T170000Z
DTEND:20050208T230000Z
X-MICROSOFT-CDO-ALLDAYEVENT:FALSE
SUMMARY:Action Committee Meeting - 02/08/2005
DESCRIPTION:
X-ALT-DESC;FMTTYPE=text/html:
LOCATION:BLSJ Cherry Hill\, NJ 08034
UID:e.9292.202
SEQUENCE:3
DTSTAMP:20260420T210231Z
URL:https://members.blsj.com/events/details/action-committee-meeting-02-08-2005-02-08-2005-202
END:VEVENT

END:VCALENDAR
