BEGIN:VCALENDAR
VERSION:2.0
PRODID:-//ChamberMaster//Event Calendar 2.0//EN
METHOD:PUBLISH
X-PUBLISHED-TTL:P3D
REFRESH-INTERVAL:P3D
CALSCALE:GREGORIAN
BEGIN:VEVENT
DTSTART:20090623T220000Z
DTEND:20090623T220000Z
X-MICROSOFT-CDO-ALLDAYEVENT:FALSE
SUMMARY:Accelerated Auction Marketing for Builders and Developers
DESCRIPTION:Accelerated Auction Marketing for Builders and Developers\n \n Don't miss this chance to learn first-hand how auctions will sell your stalled inventory and put cash back into your operation quickly. Come hear from your peers how auctions create the buyer urgency and results that you need! Featured speakers will be discussing the current real estate market and how builders and developers can succeed through an alternative marketing approach. Max Spann\, Jr. Max Spann Realty & Auction Company
X-ALT-DESC;FMTTYPE=text/html:<p>Accelerated Auction Marketing for Builders and Developers<br /> <br /> Don&rsquo\;t miss this chance to learn first-hand how auctions will sell your stalled inventory and put cash back into your operation quickly. Come hear from your peers how auctions create the buyer urgency and results that you need! Featured speakers will be discussing the current real estate market and how builders and developers can succeed through an alternative marketing approach.</p> <p>Max Spann\, Jr. Max Spann Realty &amp\; Auction Company<br /> <br /> &nbsp\;</p>
LOCATION:114 Haddontowne Court Cherry Hill\, NJ 08034
UID:e.9292.436
SEQUENCE:3
DTSTAMP:20260422T074824Z
URL:https://members.blsj.com/events/details/accelerated-auction-marketing-for-builders-and-developers-06-23-2009-436
END:VEVENT

END:VCALENDAR
