BEGIN:VCALENDAR
VERSION:2.0
PRODID:-//ChamberMaster//Event Calendar 2.0//EN
METHOD:PUBLISH
X-PUBLISHED-TTL:P3D
REFRESH-INTERVAL:P3D
CALSCALE:GREGORIAN
BEGIN:VEVENT
DTSTART:20061117T230000Z
DTEND:20061117T230000Z
X-MICROSOFT-CDO-ALLDAYEVENT:FALSE
SUMMARY:90 Minute Law School: The Use of Tax Exempt Bonds to Finance Deve
DESCRIPTION:"Use of Tax Exempt Bonds to Finance Development" This seminar takes a closer look at how developers may be able to take advantage of tax-exempt financing for certain types of development.
X-ALT-DESC;FMTTYPE=text/html:<p class="MsoTitle" style="MARGIN: 0in 0in 0.25in" align="center"><strong><span style="FONT-SIZE: 26pt\; COLOR: red\; FONT-FAMILY: Arial\; FONT-VARIANT: small-caps\; TEXT-DECORATION: none\; mso-bidi-font-size: 12.0pt\; text-underline: none">&ldquo\;Use of Tax Exempt Bonds to Finance Development&quot\;</span></strong></p> <p class="MsoBodyText" style="MARGIN: 0in 0in 0pt"><strong><span style="FONT-WEIGHT: normal\; FONT-SIZE: 14pt\; FONT-FAMILY: Arial\; mso-bidi-font-size: 12.0pt">This seminar takes a closer look at how developers may be able to take advantage of tax-exempt financing for certain types of development.<span style="mso-spacerun: yes">&nbsp\; </span><o:p></o:p></span></strong></p> <p class="MsoBodyText" style="MARGIN: 0in 0in 0pt"><strong><span style="FONT-WEIGHT: normal\; FONT-SIZE: 14pt\; FONT-FAMILY: Arial\; mso-bidi-font-size: 12.0pt"><o:p>&nbsp\;</o:p></span></strong></p> <p class="MsoBodyText" style="MARGIN: 0in 0in 0pt 0.5in\; TEXT-INDENT: -0.25in\; mso-list: l0 level1 lfo1\; tab-stops: list .5in"><strong><span style="FONT-WEIGHT: normal\; FONT-SIZE: 14pt\; FONT-FAMILY: Arial\; mso-bidi-font-size: 12.0pt"><o:p></o:p></span></strong></p> <p class="MsoBodyText" style="MARGIN: 0in 0in 0pt 0.5in\; TEXT-INDENT: -0.25in\; mso-list: l0 level1 lfo1\; tab-stops: list .5in"><strong><span style="FONT-WEIGHT: normal\; FONT-SIZE: 14pt\; FONT-FAMILY: Symbol\; mso-bidi-font-size: 12.0pt\; mso-bidi-font-family: Symbol\; mso-fareast-font-family: Symbol"><span style="mso-list: Ignore"></span></span></strong></p>
LOCATION:Builders League 114 Haddontowne Ct Cherry Hill\, NJ 08034
UID:e.9292.14
SEQUENCE:3
DTSTAMP:20260422T012435Z
URL:https://members.blsj.com/events/details/90-minute-law-school-the-use-of-tax-exempt-bonds-to-finance-deve-11-17-2006-14
END:VEVENT

END:VCALENDAR
