BEGIN:VCALENDAR
VERSION:2.0
PRODID:-//ChamberMaster//Event Calendar 2.0//EN
METHOD:PUBLISH
X-PUBLISHED-TTL:P3D
REFRESH-INTERVAL:P3D
CALSCALE:GREGORIAN
BEGIN:VEVENT
DTSTART:20061201T230000Z
DTEND:20061201T230000Z
X-MICROSOFT-CDO-ALLDAYEVENT:FALSE
SUMMARY:90 Minute Law School: Succession Planning
DESCRIPTION:"The Tax and Estate Planning Aspects Of Succession Planning"   This seminar takes a closer look at the estate planning\, tax consideration\, and other vital issues inherently involved in succession planning for a business.     More specifically\, presenter Alan H. Zuckerman\, a CPA and an attorney in the Taxation Practice Group at Flaster/Greenberg P.C.\, will address common issues with regard to this topic including:          The difference between capital gain and ordinary gain          How to determine fair market value for a business          The difference between stock payment and deferred compensation          The use of and types of various discounting techniques          Equalization of assets among family members
X-ALT-DESC;FMTTYPE=text/html:<span style="FONT-SIZE: 26pt\; FONT-FAMILY: Arial\; FONT-VARIANT: small-caps\; TEXT-DECORATION: none\; mso-bidi-font-size: 12.0pt\; text-underline: none"><font style="FONT-SIZE: 12px"> <p class="MsoTitle" style="MARGIN: 0in 0in 0.25in"><span style="FONT-SIZE: 26pt\; FONT-FAMILY: Arial\; FONT-VARIANT: small-caps\; TEXT-DECORATION: none\; mso-bidi-font-size: 12.0pt\; text-underline: none">&ldquo\;The Tax and Estate Planning Aspects Of Succession Planning&quot\;<o:p></o:p></span></p> <p>&nbsp\;</p> <p class="MsoBodyText" style="MARGIN: 0in 0in 0pt"><strong><span style="FONT-WEIGHT: normal\; FONT-SIZE: 14pt\; FONT-FAMILY: Arial\; mso-bidi-font-size: 12.0pt">This seminar takes a closer look at the estate planning\, tax consideration\, and other vital issues inherently involved in succession planning for a business.<span style="mso-spacerun: yes">&nbsp\; </span><o:p></o:p></span></strong></p> <p class="MsoBodyText" style="MARGIN: 0in 0in 0pt"><strong><span style="FONT-WEIGHT: normal\; FONT-SIZE: 14pt\; FONT-FAMILY: Arial\; mso-bidi-font-size: 12.0pt"><o:p>&nbsp\;</o:p></span></strong></p> <p class="MsoBodyText" style="MARGIN: 0in 0in 0pt"><span style="FONT-WEIGHT: normal\; FONT-SIZE: 14pt\; FONT-FAMILY: Arial\; mso-bidi-font-size: 12.0pt">More specifically\, presenter Alan H. Zuckerman\, a CPA and an attorney in the Taxation Practice Group at Flaster/Greenberg P.C.\, will address common issues with regard to this topic including:<o:p></o:p></span></p> <p class="MsoBodyText" style="MARGIN: 0in 0in 0pt 0.5in\; TEXT-INDENT: -0.25in\; mso-list: l0 level1 lfo1\; tab-stops: list .5in"><span><strong><span style="mso-list: Ignore">&middot\;<span style="FONT: 7pt &quot\;Times New Roman&quot\;">&nbsp\;&nbsp\;&nbsp\;&nbsp\;&nbsp\;&nbsp\;&nbsp\; </span></span>The difference between capital gain and ordinary gain<o:p></o:p></strong></span></p> <p class="MsoBodyText" style="MARGIN: 0in 0in 0pt 0.5in\; TEXT-INDENT: -0.25in\; mso-list: l0 level1 lfo1\; tab-stops: list .5in"><span><strong><span style="mso-list: Ignore">&middot\;<span style="FONT: 7pt &quot\;Times New Roman&quot\;">&nbsp\;&nbsp\;&nbsp\;&nbsp\;&nbsp\;&nbsp\;&nbsp\; </span></span>How to determine fair market value for a business<o:p></o:p></strong></span></p> <p class="MsoBodyText" style="MARGIN: 0in 0in 0pt 0.5in\; TEXT-INDENT: -0.25in\; mso-list: l0 level1 lfo1\; tab-stops: list .5in"><span><strong><span style="mso-list: Ignore">&middot\;<span style="FONT: 7pt &quot\;Times New Roman&quot\;">&nbsp\;&nbsp\;&nbsp\;&nbsp\;&nbsp\;&nbsp\;&nbsp\; </span></span>The difference between stock payment and deferred compensation<o:p></o:p></strong></span></p> <p class="MsoBodyText" style="MARGIN: 0in 0in 0pt 0.5in\; TEXT-INDENT: -0.25in\; mso-list: l0 level1 lfo1\; tab-stops: list .5in"><span><strong><span style="mso-list: Ignore">&middot\;<span style="FONT: 7pt &quot\;Times New Roman&quot\;">&nbsp\;&nbsp\;&nbsp\;&nbsp\;&nbsp\;&nbsp\;&nbsp\; </span></span>The use of and types of various discounting techniques<o:p></o:p></strong></span></p> <p class="MsoBodyText" style="MARGIN: 0in 0in 0pt 0.5in\; TEXT-INDENT: -0.25in\; mso-list: l0 level1 lfo1\; tab-stops: list .5in"><span><strong><span style="mso-list: Ignore">&middot\;<span style="FONT: 7pt &quot\;Times New Roman&quot\;">&nbsp\;&nbsp\;&nbsp\;&nbsp\;&nbsp\;&nbsp\;&nbsp\; </span></span>Equalization of assets among family members<o:p></o:p></strong></span></p> </font></span><strong><span style="FONT-SIZE: 14pt\; FONT-FAMILY: Arial\; TEXT-DECORATION: none\; mso-bidi-font-size: 12.0pt\; text-underline: none"><u><o:p></o:p></u></span></strong>
LOCATION:Builders League Office 114 Haddontowne Ct Cherry Hill\, NJ 08034
UID:e.9292.79
SEQUENCE:3
DTSTAMP:20260422T023457Z
URL:https://members.blsj.com/events/details/90-minute-law-school-succession-planning-12-01-2006-79
END:VEVENT

END:VCALENDAR
