BEGIN:VCALENDAR
VERSION:2.0
PRODID:-//ChamberMaster//Event Calendar 2.0//EN
METHOD:PUBLISH
X-PUBLISHED-TTL:P3D
REFRESH-INTERVAL:P3D
CALSCALE:GREGORIAN
BEGIN:VEVENT
DTSTART:20040324T230000Z
DTEND:20040324T170000Z
X-MICROSOFT-CDO-ALLDAYEVENT:FALSE
SUMMARY:90 Minute Law School Series - Shareholder/Partnership Agreements
DESCRIPTION:Speaker: PETER R. SPIRGEL\, ESQ.\, Flaster Greenberg Topic:  The Importance of Carefully Drafted  Shareholder/Partnership Agreements   * Partnership agreements for the privately held builder\, covering:  * buy-sell provisions  * management and control issues and  * employment terms
X-ALT-DESC;FMTTYPE=text/html: Speaker: PETER R. SPIRGEL\, ESQ.\, Flaster Greenberg Topic:  The Importance of Carefully Drafted  Shareholder/Partnership Agreements   * Partnership agreements for the privately held builder\, covering:  * buy-sell provisions  * management and control issues and  * employment terms  
LOCATION:BLSJ Cherry Hill\, NJ 08034
UID:e.9292.430
SEQUENCE:3
DTSTAMP:20260420T071919Z
URL:https://members.blsj.com/events/details/90-minute-law-school-series-shareholder-partnership-agreements-03-24-2004-430
END:VEVENT

END:VCALENDAR
