BEGIN:VCALENDAR
VERSION:2.0
PRODID:-//ChamberMaster//Event Calendar 2.0//EN
METHOD:PUBLISH
X-PUBLISHED-TTL:P3D
REFRESH-INTERVAL:P3D
CALSCALE:GREGORIAN
BEGIN:VEVENT
DTSTART:20040922T220000Z
DTEND:20040922T160000Z
X-MICROSOFT-CDO-ALLDAYEVENT:FALSE
SUMMARY:90 Minute Law School Series-Retaining Employees and Saving Taxes
DESCRIPTION:Speaker: ELLIOT D. RAFF\, ESQ.\, Flaster Greenberg Topic: Employee Benefits:  Retaining Employees and Saving Taxes *   Retirement Plan Basics *   "Owner-Friendly" Retirement Plans *   New Savings Opportunities *   Multi-Employer Issues Involving Subcontractors *
X-ALT-DESC;FMTTYPE=text/html:Speaker: ELLIOT D. RAFF\, ESQ.\, Flaster Greenberg Topic: Employee Benefits:  Retaining Employees and Saving Taxes *   Retirement Plan Basics *   "Owner-Friendly" Retirement Plans *   New Savings Opportunities *   Multi-Employer Issues Involving Subcontractors *    
LOCATION:BLSJ Cherry Hill\, NJ 08034
UID:e.9292.77
SEQUENCE:3
DTSTAMP:20260420T152116Z
URL:https://members.blsj.com/events/details/90-minute-law-school-series-retaining-employees-and-saving-taxes-09-22-2004-77
END:VEVENT

END:VCALENDAR
