BEGIN:VCALENDAR
VERSION:2.0
PRODID:-//ChamberMaster//Event Calendar 2.0//EN
METHOD:PUBLISH
X-PUBLISHED-TTL:P3D
REFRESH-INTERVAL:P3D
CALSCALE:GREGORIAN
BEGIN:VEVENT
DTSTART:20040526T220000Z
DTEND:20040526T160000Z
X-MICROSOFT-CDO-ALLDAYEVENT:FALSE
SUMMARY:90 Minute Law School Series- Protecting Your Company
DESCRIPTION:Speaker: DOUGLAS S. STANGER\, ESQ.\, Flaster Greenberg Topic: Protecting Your Company When the Owner or a Contractor/ Sub-Contractor files Bankruptcy  *   Obtain an overview of Bankruptcy Proceedings and how they can effect you and your company.  *   Learn ways to cut your loses or receive payment from entities in bankruptcy.
X-ALT-DESC;FMTTYPE=text/html:Speaker: DOUGLAS S. STANGER\, ESQ.\, Flaster Greenberg Topic: Protecting Your Company When the Owner or a Contractor/ Sub-Contractor files Bankruptcy  *   Obtain an overview of Bankruptcy Proceedings and how they can effect you and your company.  *   Learn ways to cut your loses or receive payment from entities in bankruptcy.  
LOCATION:BLSJ Cherry Hill\, NJ 08034
UID:e.9292.13
SEQUENCE:3
DTSTAMP:20260420T100806Z
URL:https://members.blsj.com/events/details/90-minute-law-school-series-protecting-your-company-05-26-2004-13
END:VEVENT

END:VCALENDAR
