BEGIN:VCALENDAR
VERSION:2.0
PRODID:-//ChamberMaster//Event Calendar 2.0//EN
METHOD:PUBLISH
X-PUBLISHED-TTL:P3D
REFRESH-INTERVAL:P3D
CALSCALE:GREGORIAN
BEGIN:VEVENT
DTSTART:20040428T220000Z
DTEND:20040428T160000Z
X-MICROSOFT-CDO-ALLDAYEVENT:FALSE
SUMMARY:90 Minute Law School Series - Environmental Risk Management
DESCRIPTION:Speaker: FRANKLIN J. RIESENBURGER\, ESQ. Flaster Greenberg Environmental Risk Management in Real Property Acquisitions
X-ALT-DESC;FMTTYPE=text/html:Speaker: FRANKLIN J. RIESENBURGER\, ESQ. Flaster Greenberg Environmental Risk Management in Real Property Acquisitions 
LOCATION:BLSJ Cherry Hill\, NJ 08034
UID:e.9292.76
SEQUENCE:3
DTSTAMP:20260420T084209Z
URL:https://members.blsj.com/events/details/90-minute-law-school-series-environmental-risk-management-04-28-2004-76
END:VEVENT

END:VCALENDAR
