BEGIN:VCALENDAR
VERSION:2.0
PRODID:-//ChamberMaster//Event Calendar 2.0//EN
METHOD:PUBLISH
X-PUBLISHED-TTL:P3D
REFRESH-INTERVAL:P3D
CALSCALE:GREGORIAN
BEGIN:VEVENT
DTSTART:20050628T220000Z
DTEND:20050628T220000Z
X-MICROSOFT-CDO-ALLDAYEVENT:FALSE
SUMMARY:90 Minute Law School- Rare and Endangered Species
DESCRIPTION:Speaker:  Richard M. Hluchan\, Esq.\, Ballard Spahr   DEP is proposing a new permit program regulating development in or near  threatened and endangered species habitat. Hear what the new regs mean and how it affects building in NJ
X-ALT-DESC;FMTTYPE=text/html:Speaker:  Richard M. Hluchan\, Esq.\, Ballard Spahr   DEP is proposing a new permit program regulating development in or near  threatened and endangered species habitat. Hear what the new regs mean and how it affects building in NJ 
LOCATION:Builders League of South Jersey 114 Haddontowne Ct Cherry Hill\, NJ 08034
UID:e.9292.199
SEQUENCE:3
DTSTAMP:20260421T020740Z
URL:https://members.blsj.com/events/details/90-minute-law-school-rare-and-endangered-species-06-28-2005-199
END:VEVENT

END:VCALENDAR
