BEGIN:VCALENDAR
VERSION:2.0
PRODID:-//ChamberMaster//Event Calendar 2.0//EN
METHOD:PUBLISH
X-PUBLISHED-TTL:P3D
REFRESH-INTERVAL:P3D
CALSCALE:GREGORIAN
BEGIN:VEVENT
DTSTART:20041215T230000Z
DTEND:20041215T170000Z
X-MICROSOFT-CDO-ALLDAYEVENT:FALSE
SUMMARY:90 Minute Law School - Preventing Harassment in the Workplace
DESCRIPTION:Sexual harassment and claims of a hostile work environment based on race\, disability and sexual orientation continue to be hot areas of litigation.  This seminar will review the latest developments in this area of the law\, and provide practical tips about how to prevent harassment and how to handle such claims when they arise.
X-ALT-DESC;FMTTYPE=text/html:Sexual harassment and claims of a hostile work environment based on race\, disability and sexual orientation continue to be hot areas of litigation.  This seminar will review the latest developments in this area of the law\, and provide practical tips about how to prevent harassment and how to handle such claims when they arise.  
LOCATION:BLSJ Cherry Hill\, NJ 08034
UID:e.9292.198
SEQUENCE:3
DTSTAMP:20260420T190044Z
URL:https://members.blsj.com/events/details/90-minute-law-school-preventing-harassment-in-the-workplace-12-15-2004-198
END:VEVENT

END:VCALENDAR
