BEGIN:VCALENDAR
VERSION:2.0
PRODID:-//ChamberMaster//Event Calendar 2.0//EN
METHOD:PUBLISH
X-PUBLISHED-TTL:P3D
REFRESH-INTERVAL:P3D
CALSCALE:GREGORIAN
BEGIN:VEVENT
DTSTART:20041027T220000Z
DTEND:20041027T160000Z
X-MICROSOFT-CDO-ALLDAYEVENT:FALSE
SUMMARY:90 Minute Law School- New Jersey Construction Lien Law
DESCRIPTION:Speaker: JAMES A. KOZACHEK\, ESQ.\, Flaster Greenberg    Topic:   An Overview of New Jersey Construction Lien Law - How to Use it and How to Defend Against it.
X-ALT-DESC;FMTTYPE=text/html:Speaker: JAMES A. KOZACHEK\, ESQ.\, Flaster Greenberg    Topic:   An Overview of New Jersey Construction Lien Law - How to Use it and How to Defend Against it. 
LOCATION:\, NJ
UID:e.9292.47
SEQUENCE:3
DTSTAMP:20260420T163839Z
URL:https://members.blsj.com/events/details/90-minute-law-school-new-jersey-construction-lien-law-10-27-2004-47
END:VEVENT

END:VCALENDAR
