BEGIN:VCALENDAR
VERSION:2.0
PRODID:-//ChamberMaster//Event Calendar 2.0//EN
METHOD:PUBLISH
X-PUBLISHED-TTL:P3D
REFRESH-INTERVAL:P3D
CALSCALE:GREGORIAN
BEGIN:VEVENT
DTSTART:20060406T220000Z
DTEND:20060406T220000Z
X-MICROSOFT-CDO-ALLDAYEVENT:FALSE
SUMMARY:90 Minute Law School: Material Cost Escalations
DESCRIPTION:Material Price Escalations       A. Background and Impacts       B. Controlling Subcontractor/Supplier Escalations             1. Requiring Firm Bids             2. Segregation of PTPIM (Potentially Time and Price Impacted Materials)                     a. Setting baselines                     b. Setting Adjustment "caps" or formulas and supporting documentation requirements                     c. Decreases                     d. Availability Issues       C. Customer/Buyer Impacts             1. Escalation Clauses             2. Invoking the escalation clause             3. Supporting documentation for Escalation             4. Pitfalls  Presented by: James H. Landgraf\, Esq. Cureton Caplan\, P.C.
X-ALT-DESC;FMTTYPE=text/html:Material Price Escalations       A. Background and Impacts       B. Controlling Subcontractor/Supplier Escalations             1. Requiring Firm Bids             2. Segregation of PTPIM (Potentially Time and Price Impacted Materials)                     a. Setting baselines                     b. Setting Adjustment "caps" or formulas and supporting documentation requirements                     c. Decreases                     d. Availability Issues       C. Customer/Buyer Impacts             1. Escalation Clauses             2. Invoking the escalation clause             3. Supporting documentation for Escalation             4. Pitfalls  Presented by: James H. Landgraf\, Esq. Cureton Caplan\, P.C.   
LOCATION:Builders League 114 Haddontowne Ct Cherry Hill\, NJ 08034
UID:e.9292.200
SEQUENCE:3
DTSTAMP:20260421T154239Z
URL:https://members.blsj.com/events/details/90-minute-law-school-material-cost-escalations-04-06-2006-200
END:VEVENT

END:VCALENDAR
