BEGIN:VCALENDAR
VERSION:2.0
PRODID:-//ChamberMaster//Event Calendar 2.0//EN
METHOD:PUBLISH
X-PUBLISHED-TTL:P3D
REFRESH-INTERVAL:P3D
CALSCALE:GREGORIAN
BEGIN:VEVENT
DTSTART:20060517T220000Z
DTEND:20060517T220000Z
X-MICROSOFT-CDO-ALLDAYEVENT:FALSE
SUMMARY:90 Minute Law School: Land Purchase Agreements
DESCRIPTION:"Tackling Key Issues in Land Purchase Agreements"  Presented by: Allen Fineberg\, Esquire\, Flaster/Greenberg P.C.  When purchasing vacant land for future development\, it is important to consider some of the complications that may arise.  Flaster/Greenberg attorney Allen P. Fineberg will discuss some of the thorny issues involved with land purchase agreements and what you should consider to reduce your risks.  Topics will include:     Â· Development approvals\, financing and other contingencies.  Â· Due diligence investigations.  Â· Title and survey issues.  Â· Environmental problems.  Â· Defaults and remedies.  Â· Deposits\, escrows\, option payments and extension fees.
X-ALT-DESC;FMTTYPE=text/html:"Tackling Key Issues in Land Purchase Agreements"  Presented by: Allen Fineberg\, Esquire\, Flaster/Greenberg P.C.  When purchasing vacant land for future development\, it is important to consider some of the complications that may arise.  Flaster/Greenberg attorney Allen P. Fineberg will discuss some of the thorny issues involved with land purchase agreements and what you should consider to reduce your risks.  Topics will include:     Â· Development approvals\, financing and other contingencies.  Â· Due diligence investigations.  Â· Title and survey issues.  Â· Environmental problems.  Â· Defaults and remedies.  Â· Deposits\, escrows\, option payments and extension fees.      
LOCATION:Builders League Cherry Hill\, NJ 08034
UID:e.9292.432
SEQUENCE:3
DTSTAMP:20260421T182008Z
URL:https://members.blsj.com/events/details/90-minute-law-school-land-purchase-agreements-05-17-2006-432
END:VEVENT

END:VCALENDAR
