BEGIN:VCALENDAR
VERSION:2.0
PRODID:-//ChamberMaster//Event Calendar 2.0//EN
METHOD:PUBLISH
X-PUBLISHED-TTL:P3D
REFRESH-INTERVAL:P3D
CALSCALE:GREGORIAN
BEGIN:VEVENT
DTSTART:20040225T230000Z
DTEND:20040225T170000Z
X-MICROSOFT-CDO-ALLDAYEVENT:FALSE
SUMMARY:90 Minute Law School - Investing Retirement Funds In Real Estate
DESCRIPTION:Speaker:  ALLEN P. FINEBERG\, ESQ.\, Flaster Greenberg  Investing Retirement Funds In Real Estate  Trillions of dollars of assets are now held by pension and other retirement funds in the United States. With many investors disenchanted with the equity markets and the relatively low rates of return on more conservative investment options\, IRAs and 401(k) and other retirement plans have become a rich source of potential funds for investment in real estate. This seminar will explain how to navigate the maze of tax and legal requirements to permit IRA and other retirement assets to be used for real estate investments. The program will cover both the use of your own retirement funds for personal (non-business) real estate investments and also how retirement assets can be tapped as a source of capital from unrelated third-party investors to be used for a company's real estate development projects.
X-ALT-DESC;FMTTYPE=text/html:Speaker:  ALLEN P. FINEBERG\, ESQ.\, Flaster Greenberg  Investing Retirement Funds In Real Estate  Trillions of dollars of assets are now held by pension and other retirement funds in the United States. With many investors disenchanted with the equity markets and the relatively low rates of return on more conservative investment options\, IRAs and 401(k) and other retirement plans have become a rich source of potential funds for investment in real estate. This seminar will explain how to navigate the maze of tax and legal requirements to permit IRA and other retirement assets to be used for real estate investments. The program will cover both the use of your own retirement funds for personal (non-business) real estate investments and also how retirement assets can be tapped as a source of capital from unrelated third-party investors to be used for a company's real estate development projects.  
LOCATION:BLSJ Cherry Hill\, NJ 08034
UID:e.9292.74
SEQUENCE:3
DTSTAMP:20260420T055840Z
URL:https://members.blsj.com/events/details/90-minute-law-school-investing-retirement-funds-in-real-estate-02-25-2004-74
END:VEVENT

END:VCALENDAR
