BEGIN:VCALENDAR
VERSION:2.0
PRODID:-//ChamberMaster//Event Calendar 2.0//EN
METHOD:PUBLISH
X-PUBLISHED-TTL:P3D
REFRESH-INTERVAL:P3D
CALSCALE:GREGORIAN
BEGIN:VEVENT
DTSTART:20040623T220000Z
DTEND:20040623T160000Z
X-MICROSOFT-CDO-ALLDAYEVENT:FALSE
SUMMARY:90 Minute Law School - Estate Planning
DESCRIPTION:Speaker: ALAN H. ZUCKERMAN\, ESQ.\, Flaster Greenberg  Estate Planning: Ways to Minimize Estate and Inheritance Taxes to Protect Assets for Your Family
X-ALT-DESC;FMTTYPE=text/html:Speaker: ALAN H. ZUCKERMAN\, ESQ.\, Flaster Greenberg  Estate Planning: Ways to Minimize Estate and Inheritance Taxes to Protect Assets for Your Family 
LOCATION:BLSJ Cherry Hill\, NJ 08034
UID:e.9292.12
SEQUENCE:3
DTSTAMP:20260420T111953Z
URL:https://members.blsj.com/events/details/90-minute-law-school-estate-planning-06-23-2004-12
END:VEVENT

END:VCALENDAR
