BEGIN:VCALENDAR
VERSION:2.0
PRODID:-//ChamberMaster//Event Calendar 2.0//EN
METHOD:PUBLISH
X-PUBLISHED-TTL:P3D
REFRESH-INTERVAL:P3D
CALSCALE:GREGORIAN
BEGIN:VEVENT
DTSTART:20050222T230000Z
DTEND:20050222T230000Z
X-MICROSOFT-CDO-ALLDAYEVENT:FALSE
SUMMARY:90 Minute Law School - Challenging a Real Estate Tax Assessment
DESCRIPTION:Speaker: Jack Plackter\, Esq./Fox Rothschild Every year taxpayers lose thousands of dollars through overpayment of real eastate taxes on properties that are improperly valued and assessed.  Mr. Pacckter will discuss the tax appeal process\, property valuation issues and topics including re-valuations\, re-assessments and added and omitted assessments. You will hear about what it takes to mount successful assessment appeals for commercial\, industrial\, multi-family and other income producing properties. Topis include: Evaluating the Feasibility of an Assessment Appeal Assessment Danger Zones: Chapter 91 and Farmland Assessments Business Retention Act\, Personalty and Assessment Relief Contaminated Property Assessment Issues Extracting Intangible Business Value from Assessments
X-ALT-DESC;FMTTYPE=text/html:Speaker: Jack Plackter\, Esq./Fox Rothschild Every year taxpayers lose thousands of dollars through overpayment of real eastate taxes on properties that are improperly valued and assessed.  Mr. Pacckter will discuss the tax appeal process\, property valuation issues and topics including re-valuations\, re-assessments and added and omitted assessments. You will hear about what it takes to mount successful assessment appeals for commercial\, industrial\, multi-family and other income producing properties. Topis include: Evaluating the Feasibility of an Assessment Appeal Assessment Danger Zones: Chapter 91 and Farmland Assessments Business Retention Act\, Personalty and Assessment Relief Contaminated Property Assessment Issues Extracting Intangible Business Value from Assessments
LOCATION:BLSJ 114 Haddontowne Court Cherry Hill\, NJ 08034
UID:e.9292.73
SEQUENCE:3
DTSTAMP:20260420T210502Z
URL:https://members.blsj.com/events/details/90-minute-law-school-challenging-a-real-estate-tax-assessment-02-22-2005-73
END:VEVENT

END:VCALENDAR
