BEGIN:VCALENDAR
VERSION:2.0
PRODID:-//ChamberMaster//Event Calendar 2.0//EN
METHOD:PUBLISH
X-PUBLISHED-TTL:P3D
REFRESH-INTERVAL:P3D
CALSCALE:GREGORIAN
BEGIN:VEVENT
DTSTART:20051201T230000Z
DTEND:20051201T170000Z
X-MICROSOFT-CDO-ALLDAYEVENT:FALSE
SUMMARY:90 Minute Law "Employing Subcontractors and Independent Contracto
DESCRIPTION:"Employing Subcontractors and Independent Contractors:  What You Need To Know To Avoid Tax And Legal Liabilities"   Using independent contractors helps employers avoid some\, but not all\, of the financial\, legal and tax entanglements related to hiring permanent employees.  The IRS\, the Department of Labor and plaintiffs' lawyers often expand their attacks to include general contractors when a subcontractor is underinsured\, finanically irresponsible\, abusive to workers or otherwise in violation of the law.  This seminar will help you recognize problem areas and protect your company from liability\, including: * Review of the latest case law on independent contractors * Identification of the key criteria that the IRS\, DOL and courts analyze in reviewing these relationships * Advice on how to avoid liability for your subcontractors' misdeeds  Speaker: Michael Homans\, Esquire Flaster Greenberg PC
X-ALT-DESC;FMTTYPE=text/html:"Employing Subcontractors and Independent Contractors:  What You Need To Know To Avoid Tax And Legal Liabilities"   Using independent contractors helps employers avoid some\, but not all\, of the financial\, legal and tax entanglements related to hiring permanent employees.  The IRS\, the Department of Labor and plaintiffs' lawyers often expand their attacks to include general contractors when a subcontractor is underinsured\, finanically irresponsible\, abusive to workers or otherwise in violation of the law.  This seminar will help you recognize problem areas and protect your company from liability\, including: * Review of the latest case law on independent contractors * Identification of the key criteria that the IRS\, DOL and courts analyze in reviewing these relationships * Advice on how to avoid liability for your subcontractors' misdeeds  Speaker: Michael Homans\, Esquire Flaster Greenberg PC
LOCATION:Builders League of South Jersey 114 Haddontowne Court Cherry Hill\, NJ 08034
UID:e.9292.11
SEQUENCE:3
DTSTAMP:20260421T095210Z
URL:https://members.blsj.com/events/details/90-minute-law-employing-subcontractors-and-independent-contracto-12-01-2005-11
END:VEVENT

END:VCALENDAR
