BEGIN:VCALENDAR
VERSION:2.0
PRODID:-//ChamberMaster//Event Calendar 2.0//EN
METHOD:PUBLISH
X-PUBLISHED-TTL:P3D
REFRESH-INTERVAL:P3D
CALSCALE:GREGORIAN
BEGIN:VEVENT
DTSTART:20090912T160000Z
DTEND:20090912T160000Z
X-MICROSOFT-CDO-ALLDAYEVENT:FALSE
SUMMARY:5K RACE/WALK TO BENEFIT HOMES FOR OUR TROOPS - 09/12/2009
DESCRIPTION:JOIN US ON 9/12/09 AS WE HONOR THE SERVICEMEN AND WOMEN\n WHO SO BRAVELY DEFEND OUR COUNTRY AND OUR FREEDOM  RUN FOR THE TROOPS\n SATURDAY\, SEPTEMBER 12\, 2009\n 8:30a.m. 5K RUN/WALK \n &\n KIDS FOR OUR TROOPS DASH\n RAIN OR SHINE\n  COOPER RIVER PARK STADIUM   \n NORTH PARK DRIVE   \n PENNSAUKEN\, NJ\n  RACE COURSE\n USATF Certified 5K\n Mile Markers and Water on Course\n \n REGISTRATION\n Early Registration through Wednesday\, September 2\, 2009.\n Online: http://www.lmsports.com/\n Mail: Entry forms must be postmarked by Wednesday\, September 2nd\, 2009. \n ____ $20 5K Run/Walk (all ages) \n ____ $5 Kids Dash(8 & under)  RACE-DAY REGISTRATION \n Register from 7:00 a.m. 8:15 a.m. at the race on \n Saturday\, September 12\, 2009 ____ $25 5K Run/Walk (all ages)\n ____ $10 Kids Dash (8 & under) FUN STUFF\n Radio Station\n After race party\n Face Painting\n Timing\, Race day logistics & finish line by LM Computer Sports & Event Productions\n ????????????? AWARDS \n 1st Male & Female Overall Winners: $100.00\n 2nd Male & Female Overall Winners: $50.00\n 3rd Male & Female Overall Winners: $25.00\n Top Male/Female Armed Services Individual\n Age Groups: Top 3 Males & Females\n 14 & Under\, 15 19\, 20-29\, 30-39\, 40-49\, 50-59\, 60-69\,\n 70+
X-ALT-DESC;FMTTYPE=text/html:<p style="text-align: center"><span style="language: EN">JOIN US ON 9/12/09 AS WE HONOR THE SERVICEMEN AND WOMEN<br /> WHO SO BRAVELY DEFEND OUR COUNTRY AND OUR FREEDOM</span></p> <p style="text-align: center"><span style="language: EN">&nbsp\;RUN FOR THE TROOPS<br /> SATURDAY\, SEPTEMBER 12\, 2009<br /> 8:30a.m. 5K RUN/WALK <br /> &amp\;<br /> KIDS FOR OUR TROOPS DASH<br /> RAIN OR SHINE<br /> <o:p></o:p></span></p> <p style="text-align: center"><span style="language: EN">COOPER RIVER PARK STADIUM&nbsp\;&nbsp\; <br /> NORTH PARK DRIVE&nbsp\;&nbsp\; <br /> PENNSAUKEN\, NJ<br /> </span></p> <p style="text-align: center">RACE COURSE<br /> USATF Certified 5K<br /> Mile Markers and Water on Course<br /> <br /> REGISTRATION<br /> Early Registration through Wednesday\, September 2\, 2009.<br /> Online: http://www.lmsports.com/<br /> Mail: Entry forms must be postmarked by Wednesday\, September 2nd\, 2009. <br /> ____ $20 5K Run/Walk (all ages) <br /> ____ $5 Kids Dash(8 &amp\; under)</p> <p style="text-align: center"><span id="1234298345465S" style="display: none">&nbsp\;</span>RACE-DAY REGISTRATION <br /> Register from 7:00 a.m.&mdash\;8:15 a.m. at the race on <br /> Saturday\, September 12\, 2009</p> <p style="text-align: center">____ $25 5K Run/Walk (all ages)<br /> ____ $10 Kids Dash (8 &amp\; under)</p> <p style="text-align: center">FUN STUFF<br /> Radio Station<br /> After race party<br /> Face Painting<br /> Timing\, Race day logistics &amp\; finish line by LM Computer Sports &amp\; Event Productions<br /> ?????????????</p> <p style="text-align: center">AWARDS <br /> 1st Male &amp\; Female Overall Winners: $100.00<br /> 2nd Male &amp\; Female Overall Winners: $50.00<br /> 3rd Male &amp\; Female Overall Winners: $25.00<br /> Top Male/Female Armed Services Individual<br /> Age Groups: Top 3 Males &amp\; Females<br /> 14 &amp\; Under\, 15&mdash\;19\, 20-29\, 30-39\, 40-49\, 50-59\, 60-69\,<br /> 70+</p> <p style="text-align: center">&nbsp\;</p> <p><span id="1234298345262E" style="display: none">&nbsp\;</span></p> <p>&nbsp\;</p>
LOCATION:Pennsauken\, NJ 00000
UID:e.9292.373
SEQUENCE:3
DTSTAMP:20260422T040401Z
URL:https://members.blsj.com/events/details/5k-race-walk-to-benefit-homes-for-our-troops-09-12-2009-09-12-2009-373
END:VEVENT

END:VCALENDAR
