BEGIN:VCALENDAR
VERSION:2.0
PRODID:-//ChamberMaster//Event Calendar 2.0//EN
METHOD:PUBLISH
X-PUBLISHED-TTL:P3D
REFRESH-INTERVAL:P3D
CALSCALE:GREGORIAN
BEGIN:VEVENT
DTSTART:20091111T230000Z
DTEND:20091111T170000Z
X-MICROSOFT-CDO-ALLDAYEVENT:FALSE
SUMMARY:2009 MAME AWARDS - Major Achievements in Marketing Excellence - Join Us as We Honor Our 2009 Winners
DESCRIPTION:The General Membership and the   \n Sales and Marketing Council \n of the Builders League of South Jersey \n are pleased to present the \n \n 2009 MAME AWARDS \n Wednesday\, November 11\, 2009 [MAME INVITATION & RESPONSE CARD - CLICK HERE] Join us for cocktails\, hors d'oeuvres and pre-awards dinner and lots of networking\, \n followed by our 2009 MAME Awards honoring our members' \n Major Achievements in Marketing Excellence. \n Then top off the excitement of the evening with a fun post-awards party with dessert\, coffee bar and cordials. AT \n THE MERION CATERERS\n 1901 Route 130 South\n Cinnaminson\, New Jersey
X-ALT-DESC;FMTTYPE=text/html:<p style="text-align: center">The General Membership and the&nbsp\;&nbsp\;&nbsp\;<br /> Sales and Marketing Council <br /> of the Builders League of South Jersey <br /> are pleased to present the <br /> <br /> <span style="font-family: Verdana"><span style="font-size: medium"><strong>2009 MAME AWARDS&nbsp\;</strong></span></span><span style="font-size: medium" /><br /> <span style="font-family: Verdana">Wednesday\, November 11\, 2009</span></p> <p style="text-align: center"><span style="font-family: Verdana"><a href="https://blsj-nj.builderfusion.com/bf/messaging/290230%202009%20MAME%20Invite_Reply.pdf">[MAME INVITATION &amp\; RESPONSE CARD - CLICK HERE]</a></span></p> <p style="text-align: center"><span style="font-family: Verdana" /><span style="font-family: Verdana">Join us for cocktails\, hors d&rsquo\;oeuvres and pre-awards dinner and lots of networking\, <br /> followed by our 2009 MAME Awards honoring our members&rsquo\; <br /> <strong>Major Achievements in Marketing Excellence.</strong> <br /> Then top off the excitement of the evening with a fun post-awards party with dessert\, coffee bar and cordials.</span></p> <p style="text-align: center"><span style="font-family: Verdana">AT <br /> THE MERION CATERERS<br /> 1901 Route 130 South<br /> Cinnaminson\, New Jersey</span></p> <p>&nbsp\;</p>
LOCATION:1901 Route 130 South Cinnaminson\, NJ 00000
UID:e.9292.104
SEQUENCE:3
DTSTAMP:20260422T011637Z
URL:https://members.blsj.com/events/details/2009-mame-awards-major-achievements-in-marketing-excellence-join-us-as-we-honor-our-2009-winners-11-11-2009-104
END:VEVENT

END:VCALENDAR
