BEGIN:VCALENDAR
VERSION:2.0
PRODID:-//ChamberMaster//Event Calendar 2.0//EN
METHOD:PUBLISH
X-PUBLISHED-TTL:P3D
REFRESH-INTERVAL:P3D
CALSCALE:GREGORIAN
BEGIN:VEVENT
DTSTART:20041110T170000Z
DTEND:20041110T170000Z
X-MICROSOFT-CDO-ALLDAYEVENT:FALSE
SUMMARY:2004 MAME Awards
DESCRIPTION:
X-ALT-DESC;FMTTYPE=text/html:
LOCATION:Enterprise Center at Burlington County College Mt. Laurel\, NJ 08054
UID:e.9292.103
SEQUENCE:3
DTSTAMP:20260420T174021Z
URL:https://members.blsj.com/events/details/2004-mame-awards-11-10-2004-103
END:VEVENT

END:VCALENDAR
