BEGIN:VCALENDAR
VERSION:2.0
PRODID:-//ChamberMaster//Event Calendar 2.0//EN
METHOD:PUBLISH
X-PUBLISHED-TTL:P3D
REFRESH-INTERVAL:P3D
CALSCALE:GREGORIAN
BEGIN:VEVENT
DTSTART:20060228T230000Z
DTEND:20060228T170000Z
X-MICROSOFT-CDO-ALLDAYEVENT:FALSE
SUMMARY:"10 Easy Ways to Reduce Your Business Insurance Expenses"
DESCRIPTION:There are possibly 101 ways to effectively manage business insurance expense. This seminar will discuss 10 of the simplest methods to assure a business owner they are obtaining the best possible rates without having to reduce coverage. The program will address workers compensation\, experience rating\, property insurance\, liability insurance and automobile insurance\, and provide methods to maximize reductions for each type. SPEAKERS: Anthony Bevilacqua\, CPCU\, President Mark Smith\, CPCU\, Agency Underwriting Officer Anthony & Company
X-ALT-DESC;FMTTYPE=text/html:There are possibly 101 ways to effectively manage business insurance expense. This seminar will discuss 10 of the simplest methods to assure a business owner they are obtaining the best possible rates without having to reduce coverage. The program will address workers compensation\, experience rating\, property insurance\, liability insurance and automobile insurance\, and provide methods to maximize reductions for each type. SPEAKERS: Anthony Bevilacqua\, CPCU\, President Mark Smith\, CPCU\, Agency Underwriting Officer Anthony &amp\; Company
LOCATION:Builders League 114 Haddontowne Ct Cherry Hill\, NJ 08034
UID:e.9292.3
SEQUENCE:3
DTSTAMP:20260421T123330Z
URL:https://members.blsj.com/events/details/10-easy-ways-to-reduce-your-business-insurance-expenses-02-28-2006-3
END:VEVENT

END:VCALENDAR
