BEGIN:VCALENDAR
VERSION:2.0
PRODID:-//ChamberMaster//Event Calendar 2.0//EN
METHOD:PUBLISH
X-PUBLISHED-TTL:P3D
REFRESH-INTERVAL:P3D
CALSCALE:GREGORIAN
BEGIN:VEVENT
DTSTART:20250619T140000Z
DTEND:20250619T150000Z
X-MICROSOFT-CDO-ALLDAYEVENT:FALSE
SUMMARY:Builders/Developers Meeting with Remington & Vernick
DESCRIPTION:A meeting has been scheduled for Thursday\, June 19 at 10 am at the Builders League office with Tim Staszewski\, PE\, CME\, Municipal Services Department Head | Senior Associate for Remington & Vernick. \n\n\n\nR&V are the township engineers for Monroe and Woolwich and the purpose of our meeting is to discuss any issues builders and developers might be having in those towns.\n\n\n\nIf you are building elsewhere and have something to address with R&V please let me know so they can have the appropriate staff attend if necessary.
X-ALT-DESC;FMTTYPE=text/html:<span style="font-size:14px\;"><span style="font-family:arial\;">A meeting has been scheduled for Thursday\, June 19 at 10 am at the Builders League office with Tim Staszewski\, PE\, CME\, Municipal Services Department Head | Senior Associate for Remington &amp\; Vernick.&nbsp\;<br />\n<br />\nR&amp\;V are the township engineers for Monroe and Woolwich and the purpose of our meeting is to discuss any issues builders and developers might be having in those towns.<br />\n<br />\nIf you are building elsewhere and have something to address with R&amp\;V please let me know so they can have the appropriate staff attend if necessary.</span></span><br />\n<br />\n<br />\n<br />\n<br />\n&nbsp\;
LOCATION:Builders League of South Jersey 114 Haddontowne Court Cherry Hill\, NJ 08034
UID:e.9292.3858
SEQUENCE:3
DTSTAMP:20260425T221027Z
URL:http://members.blsj.com/events/details/builders-developers-meeting-with-remington-vernick-3858
END:VEVENT

END:VCALENDAR
