BEGIN:VCALENDAR
VERSION:2.0
PRODID:-//ChamberMaster//Event Calendar 2.0//EN
METHOD:PUBLISH
X-PUBLISHED-TTL:P3D
REFRESH-INTERVAL:P3D
CALSCALE:GREGORIAN
BEGIN:VEVENT
DTSTART:20250521T130000Z
DTEND:20250521T140000Z
X-MICROSOFT-CDO-ALLDAYEVENT:FALSE
SUMMARY:BLSJ Scholarship Foundation Meeting
DESCRIPTION:Meeting to review scholarship applications.
X-ALT-DESC;FMTTYPE=text/html:<span style="font-size:14px\;"><span style="font-family:arial\;">Meeting to review scholarship applications.</span></span>
LOCATION:Builders League of South Jersey 114 Haddontowne Court Cherry Hill\, NJ 08034
UID:e.9292.3824
SEQUENCE:3
DTSTAMP:20260425T232207Z
URL:http://members.blsj.com/events/details/blsj-scholarship-foundation-meeting-3824
END:VEVENT

END:VCALENDAR
